BEGIN:VCALENDAR
VERSION:2.0
PRODID:-//Lane Prairie Baptist Church - ECPv6.15.11//NONSGML v1.0//EN
CALSCALE:GREGORIAN
METHOD:PUBLISH
X-ORIGINAL-URL:https://lpbc.us
X-WR-CALDESC:Events for Lane Prairie Baptist Church
REFRESH-INTERVAL;VALUE=DURATION:PT1H
X-Robots-Tag:noindex
X-PUBLISHED-TTL:PT1H
BEGIN:VTIMEZONE
TZID:America/Chicago
BEGIN:DAYLIGHT
TZOFFSETFROM:-0600
TZOFFSETTO:-0500
TZNAME:CDT
DTSTART:20170312T080000
END:DAYLIGHT
BEGIN:STANDARD
TZOFFSETFROM:-0500
TZOFFSETTO:-0600
TZNAME:CST
DTSTART:20171105T070000
END:STANDARD
BEGIN:DAYLIGHT
TZOFFSETFROM:-0600
TZOFFSETTO:-0500
TZNAME:CDT
DTSTART:20180311T080000
END:DAYLIGHT
BEGIN:STANDARD
TZOFFSETFROM:-0500
TZOFFSETTO:-0600
TZNAME:CST
DTSTART:20181104T070000
END:STANDARD
BEGIN:DAYLIGHT
TZOFFSETFROM:-0600
TZOFFSETTO:-0500
TZNAME:CDT
DTSTART:20190310T080000
END:DAYLIGHT
BEGIN:STANDARD
TZOFFSETFROM:-0500
TZOFFSETTO:-0600
TZNAME:CST
DTSTART:20191103T070000
END:STANDARD
BEGIN:DAYLIGHT
TZOFFSETFROM:-0600
TZOFFSETTO:-0500
TZNAME:CDT
DTSTART:20200308T080000
END:DAYLIGHT
BEGIN:STANDARD
TZOFFSETFROM:-0500
TZOFFSETTO:-0600
TZNAME:CST
DTSTART:20201101T070000
END:STANDARD
BEGIN:DAYLIGHT
TZOFFSETFROM:-0600
TZOFFSETTO:-0500
TZNAME:CDT
DTSTART:20210314T080000
END:DAYLIGHT
BEGIN:STANDARD
TZOFFSETFROM:-0500
TZOFFSETTO:-0600
TZNAME:CST
DTSTART:20211107T070000
END:STANDARD
BEGIN:DAYLIGHT
TZOFFSETFROM:-0600
TZOFFSETTO:-0500
TZNAME:CDT
DTSTART:20220313T080000
END:DAYLIGHT
BEGIN:STANDARD
TZOFFSETFROM:-0500
TZOFFSETTO:-0600
TZNAME:CST
DTSTART:20221106T070000
END:STANDARD
BEGIN:DAYLIGHT
TZOFFSETFROM:-0600
TZOFFSETTO:-0500
TZNAME:CDT
DTSTART:20230312T080000
END:DAYLIGHT
BEGIN:STANDARD
TZOFFSETFROM:-0500
TZOFFSETTO:-0600
TZNAME:CST
DTSTART:20231105T070000
END:STANDARD
BEGIN:DAYLIGHT
TZOFFSETFROM:-0600
TZOFFSETTO:-0500
TZNAME:CDT
DTSTART:20240310T080000
END:DAYLIGHT
BEGIN:STANDARD
TZOFFSETFROM:-0500
TZOFFSETTO:-0600
TZNAME:CST
DTSTART:20241103T070000
END:STANDARD
BEGIN:DAYLIGHT
TZOFFSETFROM:-0600
TZOFFSETTO:-0500
TZNAME:CDT
DTSTART:20250309T080000
END:DAYLIGHT
BEGIN:STANDARD
TZOFFSETFROM:-0500
TZOFFSETTO:-0600
TZNAME:CST
DTSTART:20251102T070000
END:STANDARD
BEGIN:DAYLIGHT
TZOFFSETFROM:-0600
TZOFFSETTO:-0500
TZNAME:CDT
DTSTART:20260308T080000
END:DAYLIGHT
BEGIN:STANDARD
TZOFFSETFROM:-0500
TZOFFSETTO:-0600
TZNAME:CST
DTSTART:20261101T070000
END:STANDARD
END:VTIMEZONE
BEGIN:VTIMEZONE
TZID:America/Denver
BEGIN:DAYLIGHT
TZOFFSETFROM:-0700
TZOFFSETTO:-0600
TZNAME:MDT
DTSTART:20230312T090000
END:DAYLIGHT
BEGIN:STANDARD
TZOFFSETFROM:-0600
TZOFFSETTO:-0700
TZNAME:MST
DTSTART:20231105T080000
END:STANDARD
BEGIN:DAYLIGHT
TZOFFSETFROM:-0700
TZOFFSETTO:-0600
TZNAME:MDT
DTSTART:20240310T090000
END:DAYLIGHT
BEGIN:STANDARD
TZOFFSETFROM:-0600
TZOFFSETTO:-0700
TZNAME:MST
DTSTART:20241103T080000
END:STANDARD
BEGIN:DAYLIGHT
TZOFFSETFROM:-0700
TZOFFSETTO:-0600
TZNAME:MDT
DTSTART:20250309T090000
END:DAYLIGHT
BEGIN:STANDARD
TZOFFSETFROM:-0600
TZOFFSETTO:-0700
TZNAME:MST
DTSTART:20251102T080000
END:STANDARD
END:VTIMEZONE
BEGIN:VTIMEZONE
TZID:America/Chicago
BEGIN:DAYLIGHT
TZOFFSETFROM:-0600
TZOFFSETTO:-0500
TZNAME:CDT
DTSTART:20160313T080000
END:DAYLIGHT
BEGIN:STANDARD
TZOFFSETFROM:-0500
TZOFFSETTO:-0600
TZNAME:CST
DTSTART:20161106T070000
END:STANDARD
BEGIN:DAYLIGHT
TZOFFSETFROM:-0600
TZOFFSETTO:-0500
TZNAME:CDT
DTSTART:20170312T080000
END:DAYLIGHT
BEGIN:STANDARD
TZOFFSETFROM:-0500
TZOFFSETTO:-0600
TZNAME:CST
DTSTART:20171105T070000
END:STANDARD
BEGIN:DAYLIGHT
TZOFFSETFROM:-0600
TZOFFSETTO:-0500
TZNAME:CDT
DTSTART:20180311T080000
END:DAYLIGHT
BEGIN:STANDARD
TZOFFSETFROM:-0500
TZOFFSETTO:-0600
TZNAME:CST
DTSTART:20181104T070000
END:STANDARD
BEGIN:DAYLIGHT
TZOFFSETFROM:-0600
TZOFFSETTO:-0500
TZNAME:CDT
DTSTART:20190310T080000
END:DAYLIGHT
BEGIN:STANDARD
TZOFFSETFROM:-0500
TZOFFSETTO:-0600
TZNAME:CST
DTSTART:20191103T070000
END:STANDARD
BEGIN:DAYLIGHT
TZOFFSETFROM:-0600
TZOFFSETTO:-0500
TZNAME:CDT
DTSTART:20200308T080000
END:DAYLIGHT
BEGIN:STANDARD
TZOFFSETFROM:-0500
TZOFFSETTO:-0600
TZNAME:CST
DTSTART:20201101T070000
END:STANDARD
END:VTIMEZONE
BEGIN:VEVENT
DTSTART;TZID=America/Chicago:20251221T104500
DTEND;TZID=America/Chicago:20251221T120000
DTSTAMP:20260423T181132
CREATED:20211130T160410Z
LAST-MODIFIED:20251124T212503Z
UID:5543-1766313900-1766318400@lpbc.us
SUMMARY:Candlelight Christmas Service
DESCRIPTION:Come celebrate Emmanuel\, God with us! We will be spend our time together reading and singing about how God stepped down into humanity\, and dwelt among us.
URL:https://lpbc.us/event/christmas-service/
LOCATION:Lane Prairie Baptist Church\, 412 County Road 704\, Joshua\, TX\, 76058\, United States
CATEGORIES:Adult Events,Children's Events,Featured Events,Senior Adult Events,Youth Events
ATTACH;FMTTYPE=image/jpeg:https://lpbc.us/wp-content/uploads/2021/11/2025-Christmas-Candlelight-Service-Cover.jpg
END:VEVENT
BEGIN:VEVENT
DTSTART;TZID=America/Chicago:20251214T104500
DTEND;TZID=America/Chicago:20251214T120000
DTSTAMP:20260423T181132
CREATED:20211130T160829Z
LAST-MODIFIED:20251124T212608Z
UID:5546-1765709100-1765713600@lpbc.us
SUMMARY:Christmas Special Service
DESCRIPTION:We are glad to announce our next Christmas musical\, “Heaven’s Greatest Gift.” \nCome join us as we celebrate the fulfilled promise\, the Christ that was to be born\, Jesus\, Emmanuel\, God with us. \nIn this special worship service\, Lane Prairie joins in one voice and heart with our Choir and Orchestra in a special moment to proclaim the birth of our Savior. \nHe is with us!
URL:https://lpbc.us/event/christmas-musical-2/
LOCATION:Lane Prairie Baptist Church\, 412 County Road 704\, Joshua\, TX\, 76058\, United States
CATEGORIES:Adult Events,Children's Events,Featured Events,Senior Adult Events,Youth Events
ATTACH;FMTTYPE=image/jpeg:https://lpbc.us/wp-content/uploads/2021/11/2025-Christmas-Cover.jpg
END:VEVENT
BEGIN:VEVENT
DTSTART;TZID=America/Chicago:20251123T120000
DTEND;TZID=America/Chicago:20251123T140000
DTSTAMP:20260423T181132
CREATED:20210922T152341Z
LAST-MODIFIED:20250922T170344Z
UID:4435-1763899200-1763906400@lpbc.us
SUMMARY:Thanksgiving Lunch
DESCRIPTION:Join us for our Annual Thanksgiving meal as we celebrate how thankful we are for what the Lord has done and continues to do. The church will provide the turkey and dressing. \nMembers\, please bring sides and desserts. \nYou can sign up in your Sunday School class\, in the foyer\, or by calling the office.
URL:https://lpbc.us/event/thanksgiving-meal/
LOCATION:Lane Prairie Baptist Church\, 412 County Road 704\, Joshua\, TX\, 76058\, United States
CATEGORIES:Adult Events,Children's Events,Featured Events,Youth Events
ATTACH;FMTTYPE=image/jpeg:https://lpbc.us/wp-content/uploads/2022/10/2025-Thanksgiving-Meal-Signup.jpg
END:VEVENT
BEGIN:VEVENT
DTSTART;TZID=America/Chicago:20250803T104500
DTEND;TZID=America/Chicago:20250803T130000
DTSTAMP:20260423T181132
CREATED:20210715T140006Z
LAST-MODIFIED:20250623T203059Z
UID:4739-1754217900-1754226000@lpbc.us
SUMMARY:Roundup Sunday
DESCRIPTION:Join us for Roundup on Sunday\, August 3. The choir will lead this special Sunday Worship\, followed by lunch and fellowship. There will also be pony rides and a petting zoo for the kids! \nSignup for lunch here\n 
URL:https://lpbc.us/event/roundup-sunday/
LOCATION:Lane Prairie Baptist Church\, 412 County Road 704\, Joshua\, TX\, 76058\, United States
CATEGORIES:Adult Events,Children's Events,Featured Events,Youth Events
ATTACH;FMTTYPE=image/jpeg:https://lpbc.us/wp-content/uploads/2021/07/2025-Round-Up-Sunday-Signup.jpg
END:VEVENT
BEGIN:VEVENT
DTSTART;TZID=America/Chicago:20250726T090000
DTEND;TZID=America/Chicago:20250726T120000
DTSTAMP:20260423T181132
CREATED:20230627T192155Z
LAST-MODIFIED:20250624T193904Z
UID:6577-1753520400-1753531200@lpbc.us
SUMMARY:Operation Backpack
DESCRIPTION:Operation Backpack is just around the corner\, Saturday\, July 26\, from 9:00 am – noon!  If you have a school-aged child (grades K-12) in need\, please register your child to receive a backpack\, school supplies\, and shoes. \nRegister Here
URL:https://lpbc.us/event/operation-backpack/
LOCATION:Lane Prairie Baptist Church\, 412 County Road 704\, Joshua\, TX\, 76058\, United States
CATEGORIES:Children's Events,Featured Events,Youth Events
ATTACH;FMTTYPE=image/jpeg:https://lpbc.us/wp-content/uploads/2023/06/2025-Operation-BackPack-Children-1.jpg
END:VEVENT
BEGIN:VEVENT
DTSTART;TZID=America/Denver:20240715T080000
DTEND;TZID=America/Denver:20240719T170000
DTSTAMP:20260423T181132
CREATED:20190501T195255Z
LAST-MODIFIED:20240520T154442Z
UID:4655-1721030400-1721408400@lpbc.us
SUMMARY:Student Camp 2024
DESCRIPTION:Pray for our students heading to Student Camp at Camp Fuego in Bethany\, LA.
URL:https://lpbc.us/event/student-camp/
LOCATION:TX
CATEGORIES:Featured Events,Youth Events
ATTACH;FMTTYPE=image/jpeg:https://lpbc.us/wp-content/uploads/2019/05/STUDENT-CAMP-2024.jpg
END:VEVENT
BEGIN:VEVENT
DTSTART;TZID=America/Chicago:20210807T090000
DTEND;TZID=America/Chicago:20210807T130000
DTSTAMP:20260423T181132
CREATED:20210601T140132Z
LAST-MODIFIED:20210702T151434Z
UID:4733-1628326800-1628341200@lpbc.us
SUMMARY:Operation Backpack 2021
DESCRIPTION:Operation Backpack is just around the corner\, August 7 from 9:00 am – 1:00 pm!  If you have a school-aged child (grades K-12) that is in need\, please register your child to receive a backpack\, school supplies\, and shoes.\n \nRegister Here \n  \n\nContact: \nRicky Fuchs\n e. rfuchs@lpbc.us \n   p. (817) 517 – 5044
URL:https://lpbc.us/event/operation-backpack-2021/
LOCATION:Lane Prairie Baptist Church\, 412 County Road 704\, Joshua\, TX\, 76058\, United States
CATEGORIES:Children's Events,Featured Events,Youth Events
ATTACH;FMTTYPE=image/png:https://lpbc.us/wp-content/uploads/2017/06/Operation-Backpack.png
END:VEVENT
BEGIN:VEVENT
DTSTART;TZID=America/Chicago:20190925T073000
DTEND;TZID=America/Chicago:20190925T080000
DTSTAMP:20260423T181132
CREATED:20190901T164154Z
LAST-MODIFIED:20190905T143522Z
UID:4824-1569396600-1569398400@lpbc.us
SUMMARY:See You At The Pole
DESCRIPTION:
URL:https://lpbc.us/event/see-you-at-the-pole/
LOCATION:TX
CATEGORIES:Youth Events
ATTACH;FMTTYPE=image/jpeg:https://lpbc.us/wp-content/uploads/2019/09/INSTAGRAM_PHOTO.jpg
END:VEVENT
BEGIN:VEVENT
DTSTART;TZID=America/Chicago:20190407T180000
DTEND;TZID=America/Chicago:20190407T210000
DTSTAMP:20260423T181132
CREATED:20190227T165101Z
LAST-MODIFIED:20190227T170057Z
UID:4103-1554660000-1554670800@lpbc.us
SUMMARY:Glow in the Dark Easter Egg Hunt
DESCRIPTION:Students join us for our 6th Annual Glow in the Dark Egg Hunt.
URL:https://lpbc.us/event/glow-in-the-dark-easter-egg-hunt/
LOCATION:Lane Prairie Baptist Church\, 412 County Road 704\, Joshua\, TX\, 76058\, United States
CATEGORIES:Youth Events
ATTACH;FMTTYPE=image/jpeg:https://lpbc.us/wp-content/uploads/2019/02/glo-egg.jpg
END:VEVENT
BEGIN:VEVENT
DTSTART;TZID=America/Chicago:20190324T180000
DTEND;TZID=America/Chicago:20190324T200000
DTSTAMP:20260423T181132
CREATED:20190215T173615Z
LAST-MODIFIED:20190220T160426Z
UID:4822-1553450400-1553457600@lpbc.us
SUMMARY:K Groups
DESCRIPTION:The K-Group is intended to be an extension of the ministry of Lane Prairie Baptist Church. Smaller groups will meet periodically in the comfort of a church member’s home to break bread\, worship\, hear from God’s Word\, and serve one another. Perhaps you have neighbors who are a bit skeptical of what a church actually does. Invite them over to see what occurs each Sunday morning and evening on a smaller scale.
URL:https://lpbc.us/event/k-groups-11/
LOCATION:TX
CATEGORIES:Adult Events,Featured Events,Senior Adult Events,Youth Events
ATTACH;FMTTYPE=image/jpeg:https://lpbc.us/wp-content/uploads/2017/07/K-Groups.jpg
END:VEVENT
BEGIN:VEVENT
DTSTART;TZID=America/Chicago:20181216T180000
DTEND;TZID=America/Chicago:20181216T190000
DTSTAMP:20260423T181132
CREATED:20181201T142950Z
LAST-MODIFIED:20181212T143826Z
UID:4920-1544983200-1544986800@lpbc.us
SUMMARY:Candlelight Service
DESCRIPTION:Join us Sunday night\, December 16 at 6:00 for our annual Candlelight Service.  It will be a time of to remember\, through worship and the sharing of the Word\, that God\, Himself\, came and dwelt among us.
URL:https://lpbc.us/event/candlelight-service/
LOCATION:TX
CATEGORIES:Adult Events,Children's Events,Featured Events,Senior Adult Events,Youth Events
ATTACH;FMTTYPE=image/jpeg:https://lpbc.us/wp-content/uploads/2018/12/IMG_0670.jpg
END:VEVENT
BEGIN:VEVENT
DTSTART;TZID=America/Chicago:20181216T104500
DTEND;TZID=America/Chicago:20181216T120000
DTSTAMP:20260423T181132
CREATED:20181114T211829Z
LAST-MODIFIED:20181114T211829Z
UID:4902-1544957100-1544961600@lpbc.us
SUMMARY:Christmas Musical
DESCRIPTION:The LPBC Worship Choir will be presenting The King is Here. 
URL:https://lpbc.us/event/christmas-musical/
LOCATION:TX
CATEGORIES:Adult Events,Children's Events,Featured Events,Senior Adult Events,Youth Events
ATTACH;FMTTYPE=image/jpeg:https://lpbc.us/wp-content/uploads/2018/11/adult-choir.jpg
END:VEVENT
BEGIN:VEVENT
DTSTART;TZID=America/Chicago:20180930T180000
DTEND;TZID=America/Chicago:20180930T190000
DTSTAMP:20260423T181132
CREATED:20180905T174956Z
LAST-MODIFIED:20180905T174956Z
UID:4829-1538330400-1538334000@lpbc.us
SUMMARY:Fifth Sunday Sing
DESCRIPTION:
URL:https://lpbc.us/event/fifth-sunday-sing/
LOCATION:Lane Prairie Baptist Church\, 412 County Road 704\, Joshua\, TX\, 76058\, United States
CATEGORIES:Adult Events,Children's Events,Featured Events,Senior Adult Events,Youth Events
ATTACH;FMTTYPE=image/jpeg:https://lpbc.us/wp-content/uploads/2018/09/01282beb88c1a507969a51e11ec50b4d.jpg
END:VEVENT
BEGIN:VEVENT
DTSTART;TZID=America/Chicago:20180916T180000
DTEND;TZID=America/Chicago:20180916T200000
DTSTAMP:20260423T181132
CREATED:20180905T163333Z
LAST-MODIFIED:20180905T163333Z
UID:4820-1537120800-1537128000@lpbc.us
SUMMARY:Annual Spoons Tournament
DESCRIPTION:
URL:https://lpbc.us/event/annual-spoons-tournament/
LOCATION:Lane Prairie Baptist Church\, 412 County Road 704\, Joshua\, TX\, 76058\, United States
CATEGORIES:Youth Events
ATTACH;FMTTYPE=image/jpeg:https://lpbc.us/wp-content/uploads/2016/05/snac.jpg
END:VEVENT
BEGIN:VEVENT
DTSTART;TZID=America/Chicago:20180902T180000
DTEND;TZID=America/Chicago:20180902T190000
DTSTAMP:20260423T181132
CREATED:20180829T171848Z
LAST-MODIFIED:20180829T172143Z
UID:4809-1535911200-1535914800@lpbc.us
SUMMARY:Labor Day Fellowship
DESCRIPTION:Join us during our normal evening worship service this Sunday (9/2) for a time of fellowship. Please brings desserts and any game that you would like to play.
URL:https://lpbc.us/event/labor-day-fellowship/
LOCATION:Lane Prairie Baptist Church\, 412 County Road 704\, Joshua\, TX\, 76058\, United States
CATEGORIES:Adult Events,Children's Events,Featured Events,Senior Adult Events,Youth Events
ATTACH;FMTTYPE=image/jpeg:https://lpbc.us/wp-content/uploads/2018/08/Labor-Day-Fellowship.jpg
END:VEVENT
BEGIN:VEVENT
DTSTART;TZID=America/Chicago:20180708T190000
DTEND;TZID=America/Chicago:20180708T203000
DTSTAMP:20260423T181132
CREATED:20180627T151847Z
LAST-MODIFIED:20180627T174830Z
UID:4748-1531076400-1531081800@lpbc.us
SUMMARY:SNAC
DESCRIPTION:
URL:https://lpbc.us/event/snac-5/
LOCATION:TX
CATEGORIES:Youth Events
ATTACH;FMTTYPE=image/jpeg:https://lpbc.us/wp-content/uploads/2016/05/snac.jpg
END:VEVENT
BEGIN:VEVENT
DTSTART;TZID=America/Chicago:20180624T180000
DTEND;TZID=America/Chicago:20180624T200000
DTSTAMP:20260423T181132
CREATED:20180606T144929Z
LAST-MODIFIED:20180606T144929Z
UID:4670-1529863200-1529870400@lpbc.us
SUMMARY:K Groups
DESCRIPTION:
URL:https://lpbc.us/event/k-groups-9/
LOCATION:Lane Prairie Baptist Church\, 412 County Road 704\, Joshua\, TX\, 76058\, United States
CATEGORIES:Adult Events,Featured Events,Youth Events
ATTACH;FMTTYPE=image/jpeg:https://lpbc.us/wp-content/uploads/2017/07/K-Groups.jpg
END:VEVENT
BEGIN:VEVENT
DTSTART;TZID=America/Chicago:20180610T190000
DTEND;TZID=America/Chicago:20180610T200000
DTSTAMP:20260423T181132
CREATED:20180606T144640Z
LAST-MODIFIED:20180606T144640Z
UID:4666-1528657200-1528660800@lpbc.us
SUMMARY:SNAC
DESCRIPTION:
URL:https://lpbc.us/event/snac-4/
LOCATION:Buffalo Nickels Mini-Golf & Nickel Arcade\, 241 Elk Dr\, Burleson\, TX\, 76028\, United States
CATEGORIES:Featured Events,Youth Events
ATTACH;FMTTYPE=image/jpeg:https://lpbc.us/wp-content/uploads/2016/05/snac.jpg
END:VEVENT
BEGIN:VEVENT
DTSTART;TZID=America/Chicago:20180527T180000
DTEND;TZID=America/Chicago:20180527T200000
DTSTAMP:20260423T181132
CREATED:20180502T153626Z
LAST-MODIFIED:20180502T153626Z
UID:4611-1527444000-1527451200@lpbc.us
SUMMARY:K Groups
DESCRIPTION:
URL:https://lpbc.us/event/k-groups-8/
LOCATION:TX
CATEGORIES:Adult Events,Featured Events,Youth Events
ATTACH;FMTTYPE=image/jpeg:https://lpbc.us/wp-content/uploads/2017/07/K-Groups.jpg
END:VEVENT
BEGIN:VEVENT
DTSTART;TZID=America/Chicago:20180506T191500
DTEND;TZID=America/Chicago:20180506T201500
DTSTAMP:20260423T181132
CREATED:20180502T155821Z
LAST-MODIFIED:20180502T182228Z
UID:4616-1525634100-1525637700@lpbc.us
SUMMARY:Youth Camp Meeting
DESCRIPTION:
URL:https://lpbc.us/event/youth-camp-meeting-2/
LOCATION:Lane Prairie Baptist Church\, 412 County Road 704\, Joshua\, TX\, 76058\, United States
CATEGORIES:Featured Events,Youth Events
ATTACH;FMTTYPE=image/jpeg:https://lpbc.us/wp-content/uploads/2018/05/youth-camp-meeting.jpg
END:VEVENT
BEGIN:VEVENT
DTSTART;TZID=America/Chicago:20180422T180000
DTEND;TZID=America/Chicago:20180422T200000
DTSTAMP:20260423T181132
CREATED:20180307T194758Z
LAST-MODIFIED:20180404T143504Z
UID:4566-1524420000-1524427200@lpbc.us
SUMMARY:K Groups
DESCRIPTION:
URL:https://lpbc.us/event/k-groups-7/
LOCATION:TX
CATEGORIES:Adult Events,Featured Events,Youth Events
ATTACH;FMTTYPE=image/jpeg:https://lpbc.us/wp-content/uploads/2017/07/K-Groups.jpg
END:VEVENT
BEGIN:VEVENT
DTSTART;TZID=America/Chicago:20180325T180000
DTEND;TZID=America/Chicago:20180325T200000
DTSTAMP:20260423T181132
CREATED:20180307T192302Z
LAST-MODIFIED:20180307T192302Z
UID:4555-1522000800-1522008000@lpbc.us
SUMMARY:K Groups
DESCRIPTION:
URL:https://lpbc.us/event/k-groups-6/
LOCATION:TX
CATEGORIES:Adult Events,Featured Events,Youth Events
ATTACH;FMTTYPE=image/jpeg:https://lpbc.us/wp-content/uploads/2017/07/K-Groups.jpg
END:VEVENT
BEGIN:VEVENT
DTSTART;TZID=America/Chicago:20180318T104500
DTEND;TZID=America/Chicago:20180318T120000
DTSTAMP:20260423T181132
CREATED:20180228T201645Z
LAST-MODIFIED:20180228T201645Z
UID:4544-1521369900-1521374400@lpbc.us
SUMMARY:Messiah in the Passover
DESCRIPTION:Messiah in the Passover shows the connection between the Lord’s Supper\, the Passover Seder meal and Messiah’s death\, burial and resurrection. It shows the Jewish heritage of the Lord’s Supper\, presenting the Gospel through the elements of Passover. \nThrough this presentation\, you: \n\nWill learn the Jewish heritage of the Lord’s Supper\, allowing you to better understand our Lord’s redemptive work for us on the cross;\nWill see the connection between the celebration of Passover and the sacrificial death\, burial\, and resurrection of our Messiah\, deepening your understanding of the faith;\nWill appreciate the connection between the Seder elements of unleavened bread and the third cup of wine\, and the Lord’s Supper\, seeing how these elements symbolize Messiah’s death;\nWill meet a Jewish believer in Jesus who is active in Jewish evangelism and you will learn how to get involved with Chosen People Ministries.
URL:https://lpbc.us/event/messiah-in-the-passover/
LOCATION:Lane Prairie Baptist Church\, 412 County Road 704\, Joshua\, TX\, 76058\, United States
CATEGORIES:Adult Events,Children's Events,Featured Events,Youth Events
ATTACH;FMTTYPE=image/png:https://lpbc.us/wp-content/uploads/2018/02/CPM_ColorWatermark.png
END:VEVENT
BEGIN:VEVENT
DTSTART;TZID=America/Chicago:20180128T180000
DTEND;TZID=America/Chicago:20180128T200000
DTSTAMP:20260423T181132
CREATED:20180110T171134Z
LAST-MODIFIED:20180110T171134Z
UID:4496-1517162400-1517169600@lpbc.us
SUMMARY:K Groups
DESCRIPTION:
URL:https://lpbc.us/event/k-groups-5/
LOCATION:TX
CATEGORIES:Adult Events,Featured Events,Youth Events
ATTACH;FMTTYPE=image/jpeg:https://lpbc.us/wp-content/uploads/2017/07/K-Groups.jpg
END:VEVENT
BEGIN:VEVENT
DTSTART;TZID=America/Chicago:20171210T060000
DTEND;TZID=America/Chicago:20171210T200000
DTSTAMP:20260423T181132
CREATED:20171101T180208Z
LAST-MODIFIED:20171101T180208Z
UID:4442-1512885600-1512936000@lpbc.us
SUMMARY:K Groups
DESCRIPTION:
URL:https://lpbc.us/event/k-groups-4/
LOCATION:TX
CATEGORIES:Adult Events,Featured Events,Youth Events
ATTACH;FMTTYPE=image/jpeg:https://lpbc.us/wp-content/uploads/2017/07/K-Groups.jpg
END:VEVENT
BEGIN:VEVENT
DTSTART;TZID=America/Chicago:20171203T104500
DTEND;TZID=America/Chicago:20171203T120000
DTSTAMP:20260423T181132
CREATED:20171101T192914Z
LAST-MODIFIED:20171101T192914Z
UID:4455-1512297900-1512302400@lpbc.us
SUMMARY:Kid’s Choir Christmas Musical
DESCRIPTION:The Kid’s Choir Presents… \nCounting Down to Christmas \n  \nCaleb’s mom has offered to host this year’s Sunday School Christmas party at their home. Sounds great\, but… \n  \nCaleb’s mom\, Mrs. Marlin\, is a legendary\, no-nonsense\, “better get it right” math teacher who has had most of the kids from church in her math class at school. Convinced that his mom’s penchant for turning everything into a math lesson will take the fun out of the evening\, Caleb does his best to allay everyone’s fears that the party might get hijacked by a math quiz! During the course of the evening\, Mrs. Marlin shares the Christmas story as only a math teacher could; the songs tell the story…”Countdown\,” “What Sense Does a Census Make?”\, “Treegonometry\,” “He Can Count on Me\,” and “It All Adds Up with Joy to the World!.” Christmas by the numbers never sounded so good!!
URL:https://lpbc.us/event/kids-choir-christmas-musical-2/
LOCATION:Lane Prairie Baptist Church\, 412 County Road 704\, Joshua\, TX\, 76058\, United States
CATEGORIES:Adult Events,Children's Events,Featured Events,Youth Events
ATTACH;FMTTYPE=image/jpeg:https://lpbc.us/wp-content/uploads/2017/11/080689577178-square.jpg
END:VEVENT
BEGIN:VEVENT
DTSTART;TZID=America/Chicago:20171105T180000
DTEND;TZID=America/Chicago:20171105T200000
DTSTAMP:20260423T181132
CREATED:20171025T131035Z
LAST-MODIFIED:20171025T131035Z
UID:4432-1509904800-1509912000@lpbc.us
SUMMARY:K Groups
DESCRIPTION:
URL:https://lpbc.us/event/k-groups-3/
LOCATION:TX
CATEGORIES:Adult Events,Featured Events,Youth Events
ATTACH;FMTTYPE=image/jpeg:https://lpbc.us/wp-content/uploads/2017/07/K-Groups.jpg
END:VEVENT
BEGIN:VEVENT
DTSTART;TZID=America/Chicago:20170917T190000
DTEND;TZID=America/Chicago:20170917T210000
DTSTAMP:20260423T181132
CREATED:20170823T152236Z
LAST-MODIFIED:20170823T152236Z
UID:4359-1505674800-1505682000@lpbc.us
SUMMARY:Team Impact Day 3
DESCRIPTION:
URL:https://lpbc.us/event/team-impact-day-3/
LOCATION:Lane Prairie Baptist Church\, 412 County Road 704\, Joshua\, TX\, 76058\, United States
CATEGORIES:Adult Events,Children's Events,Featured Events,Youth Events
ATTACH;FMTTYPE=image/png:https://lpbc.us/wp-content/uploads/2017/08/Team-Impact-e1503504999343.png
END:VEVENT
BEGIN:VEVENT
DTSTART;TZID=America/Chicago:20170916T190000
DTEND;TZID=America/Chicago:20170916T210000
DTSTAMP:20260423T181132
CREATED:20170823T152146Z
LAST-MODIFIED:20170823T152146Z
UID:4357-1505588400-1505595600@lpbc.us
SUMMARY:Team Impact Day 2
DESCRIPTION:
URL:https://lpbc.us/event/team-impact-day-2/
LOCATION:Lane Prairie Baptist Church\, 412 County Road 704\, Joshua\, TX\, 76058\, United States
CATEGORIES:Adult Events,Children's Events,Featured Events,Youth Events
ATTACH;FMTTYPE=image/png:https://lpbc.us/wp-content/uploads/2017/08/Team-Impact-e1503504999343.png
END:VEVENT
BEGIN:VEVENT
DTSTART;TZID=America/Chicago:20170915T190000
DTEND;TZID=America/Chicago:20170915T210000
DTSTAMP:20260423T181132
CREATED:20170823T151955Z
LAST-MODIFIED:20170823T152135Z
UID:4354-1505502000-1505509200@lpbc.us
SUMMARY:Team Impact Day 1
DESCRIPTION:
URL:https://lpbc.us/event/team-impact-day-1/
LOCATION:Lane Prairie Baptist Church\, 412 County Road 704\, Joshua\, TX\, 76058\, United States
CATEGORIES:Adult Events,Children's Events,Featured Events,Youth Events
ATTACH;FMTTYPE=image/png:https://lpbc.us/wp-content/uploads/2017/08/Team-Impact-e1503504999343.png
END:VEVENT
END:VCALENDAR