BEGIN:VCALENDAR
VERSION:2.0
PRODID:-//Lane Prairie Baptist Church - ECPv6.15.11//NONSGML v1.0//EN
CALSCALE:GREGORIAN
METHOD:PUBLISH
X-WR-CALNAME:Lane Prairie Baptist Church
X-ORIGINAL-URL:https://lpbc.us
X-WR-CALDESC:Events for Lane Prairie Baptist Church
REFRESH-INTERVAL;VALUE=DURATION:PT1H
X-Robots-Tag:noindex
X-PUBLISHED-TTL:PT1H
BEGIN:VTIMEZONE
TZID:America/Chicago
BEGIN:DAYLIGHT
TZOFFSETFROM:-0600
TZOFFSETTO:-0500
TZNAME:CDT
DTSTART:20220313T080000
END:DAYLIGHT
BEGIN:STANDARD
TZOFFSETFROM:-0500
TZOFFSETTO:-0600
TZNAME:CST
DTSTART:20221106T070000
END:STANDARD
BEGIN:DAYLIGHT
TZOFFSETFROM:-0600
TZOFFSETTO:-0500
TZNAME:CDT
DTSTART:20230312T080000
END:DAYLIGHT
BEGIN:STANDARD
TZOFFSETFROM:-0500
TZOFFSETTO:-0600
TZNAME:CST
DTSTART:20231105T070000
END:STANDARD
BEGIN:DAYLIGHT
TZOFFSETFROM:-0600
TZOFFSETTO:-0500
TZNAME:CDT
DTSTART:20240310T080000
END:DAYLIGHT
BEGIN:STANDARD
TZOFFSETFROM:-0500
TZOFFSETTO:-0600
TZNAME:CST
DTSTART:20241103T070000
END:STANDARD
END:VTIMEZONE
BEGIN:VTIMEZONE
TZID:UTC
BEGIN:STANDARD
TZOFFSETFROM:+0000
TZOFFSETTO:+0000
TZNAME:UTC
DTSTART:20200101T000000
END:STANDARD
END:VTIMEZONE
BEGIN:VEVENT
DTSTART;TZID=America/Chicago:20230129T180000
DTEND;TZID=America/Chicago:20230129T193000
DTSTAMP:20260423T220738
CREATED:20221229T213412Z
LAST-MODIFIED:20221229T213412Z
UID:6174-1675015200-1675020600@lpbc.us
SUMMARY:Night of Worship
DESCRIPTION:Join us on January 29\, 2023\, at 6:00 pm for a night of worship\, of adoration\, as we give praises and thanksgiving to the Lord! \nWe will have also a special message from Dr. Joe Crider\, the Dean of the School of Church Music and Worship at SBWTS. \n 
URL:https://lpbc.us/event/night-of-worship/
CATEGORIES:Featured Events,Music
ATTACH;FMTTYPE=image/jpeg:https://lpbc.us/wp-content/uploads/2022/12/Night-of-Worship-LPBC-Crider.jpeg
END:VEVENT
BEGIN:VEVENT
DTSTART;TZID=UTC:20210614T180000
DTEND;TZID=UTC:20210614T210000
DTSTAMP:20260423T220738
CREATED:20150917T001709Z
LAST-MODIFIED:20150917T001709Z
UID:442-1623693600-1623704400@lpbc.us
SUMMARY:Light Celebration
DESCRIPTION:Maecenas leo nisi\, efficitur at felis sit amet\, lacinia auctor quam. Aliquam euismod pretium mattis. Aenean sollicitudin orci non orci gravida ullamcorper. Duis utres odios pellentesque\, efficiturs odio vitae\, aliquams arcu. Sed pulvinar lacus at neque imperdiet lobortis. Phasellus eget lectus rutrum\, fringilla nibh ut\, convallis orci. Quisque magna risus\, lacinia a pharetra vel\, gravida ac mi. Aenean ac interdum nisi\, et vehicula nisl. Suspendisse potenti. Cras leo ex\, congue eget dignissim nec\, porta maximus erat. Etiam ornare arcu neque\, in viverra eros egestas eu. Mauris diam velit\, dictum et vehicula nec\, sagittis nec sapien. Donec tincidunt purus et justo porttitor\, non porttitor quam fermentum orci non aliquams arcu dolores ipsums. \nDonec maximus a ante sit amet nisl nisi at arcu. Donec lobortis libero ex\, a sollicitudin neque volutpat. Aenean pretium nisi id lectus cursus sagittis. Aliquam sit amet nisl pretium\, consectetur purus non\, porta libero. Integer dui dui\, porta non mollis sit amet\, pharetra nec risus. Donec fringilla ex non arcu auctor\, vel faucibus felis pharetra. Pellentesque condimentum suscipit mi. Sed pretium\, tellus et efficitur dapibus\, metus nunc gravida ante\, at interdum nisl nisi at arcu. Donec lobortis libero ex\, a sollicitudin neque dapibus vitae. Maecenas volutpat est sit amet leo pretium mollis eu a odio dolores ipsums ficilis etras.
URL:https://lpbc.us/event/firework-celebration/
LOCATION:South Campus\, 1234 Apple Avenue\, New York City\, NY\, 111111\, United States
CATEGORIES:Music,Outreach
ATTACH;FMTTYPE=image/jpeg:https://lpbc.us/wp-content/uploads/2015/09/event_4-compressor.jpg
ORGANIZER;CN="Avada Church":MAILTO:noreply@example.com
END:VEVENT
BEGIN:VEVENT
DTSTART;TZID=UTC:20210606T180000
DTEND;TZID=UTC:20210606T220000
DTSTAMP:20260423T220738
CREATED:20150917T003904Z
LAST-MODIFIED:20150917T003904Z
UID:445-1623002400-1623016800@lpbc.us
SUMMARY:Holiday Decoration Class
DESCRIPTION:Maecenas leo nisi\, efficitur at felis sit amet\, lacinia auctor quam. Aliquam euismod pretium mattis. Aenean sollicitudin orci non orci gravida ullamcorper. Duis utres odios pellentesque\, efficiturs odio vitae\, aliquams arcu. Sed pulvinar lacus at neque imperdiet lobortis. Phasellus eget lectus rutrum\, fringilla nibh ut\, convallis orci. Quisque magna risus\, lacinia a pharetra vel\, gravida ac mi. Aenean ac interdum nisi\, et vehicula nisl. Suspendisse potenti. Cras leo ex\, congue eget dignissim nec\, porta maximus erat. Etiam ornare arcu neque\, in viverra eros egestas eu. Mauris diam velit\, dictum et vehicula nec\, sagittis nec sapien. Donec tincidunt purus et justo porttitor\, non porttitor quam fermentum orci non aliquams arcu dolores ipsums. \nDonec maximus a ante sit amet nisl nisi at arcu. Donec lobortis libero ex\, a sollicitudin neque volutpat. Aenean pretium nisi id lectus cursus sagittis. Aliquam sit amet nisl pretium\, consectetur purus non\, porta libero. Integer dui dui\, porta non mollis sit amet\, pharetra nec risus. Donec fringilla ex non arcu auctor\, vel faucibus felis pharetra. Pellentesque condimentum suscipit mi. Sed pretium\, tellus et efficitur dapibus\, metus nunc gravida ante\, at interdum nisl nisi at arcu. Donec lobortis libero ex\, a sollicitudin neque dapibus vitae. Maecenas volutpat est sit amet leo pretium mollis eu a odio dolores ipsums ficilis etras.
URL:https://lpbc.us/event/holiday-decoration-class/
LOCATION:South Campus\, 1234 Apple Avenue\, New York City\, NY\, 111111\, United States
CATEGORIES:Community,Music
ATTACH;FMTTYPE=image/jpeg:https://lpbc.us/wp-content/uploads/2015/09/event_14-compressor.jpg
ORGANIZER;CN="Avada Church":MAILTO:noreply@example.com
END:VEVENT
BEGIN:VEVENT
DTSTART;TZID=UTC:20210530T080000
DTEND;TZID=UTC:20210530T170000
DTSTAMP:20260423T220738
CREATED:20150917T003351Z
LAST-MODIFIED:20150917T003351Z
UID:443-1622361600-1622394000@lpbc.us
SUMMARY:Family Photos
DESCRIPTION:Maecenas leo nisi\, efficitur at felis sit amet\, lacinia auctor quam. Aliquam euismod pretium mattis. Aenean sollicitudin orci non orci gravida ullamcorper. Duis utres odios pellentesque\, efficiturs odio vitae\, aliquams arcu. Sed pulvinar lacus at neque imperdiet lobortis. Phasellus eget lectus rutrum\, fringilla nibh ut\, convallis orci. Quisque magna risus\, lacinia a pharetra vel\, gravida ac mi. Aenean ac interdum nisi\, et vehicula nisl. Suspendisse potenti. Cras leo ex\, congue eget dignissim nec\, porta maximus erat. Etiam ornare arcu neque\, in viverra eros egestas eu. Mauris diam velit\, dictum et vehicula nec\, sagittis nec sapien. Donec tincidunt purus et justo porttitor\, non porttitor quam fermentum orci non aliquams arcu dolores ipsums. \nDonec maximus a ante sit amet nisl nisi at arcu. Donec lobortis libero ex\, a sollicitudin neque volutpat. Aenean pretium nisi id lectus cursus sagittis. Aliquam sit amet nisl pretium\, consectetur purus non\, porta libero. Integer dui dui\, porta non mollis sit amet\, pharetra nec risus. Donec fringilla ex non arcu auctor\, vel faucibus felis pharetra. Pellentesque condimentum suscipit mi. Sed pretium\, tellus et efficitur dapibus\, metus nunc gravida ante\, at interdum nisl nisi at arcu. Donec lobortis libero ex\, a sollicitudin neque dapibus vitae. Maecenas volutpat est sit amet leo pretium mollis eu a odio dolores ipsums ficilis etras.
URL:https://lpbc.us/event/family-photo-sessions/
LOCATION:South Campus\, 1234 Apple Avenue\, New York City\, NY\, 111111\, United States
CATEGORIES:Community,Music,Outreach
ATTACH;FMTTYPE=image/jpeg:https://lpbc.us/wp-content/uploads/2015/09/event_11-compressor.jpg
ORGANIZER;CN="Avada Church":MAILTO:noreply@example.com
END:VEVENT
BEGIN:VEVENT
DTSTART;TZID=UTC:20210509T080000
DTEND;TZID=UTC:20210509T170000
DTSTAMP:20260423T220738
CREATED:20150917T003439Z
LAST-MODIFIED:20150917T003439Z
UID:444-1620547200-1620579600@lpbc.us
SUMMARY:Kids Festival
DESCRIPTION:Maecenas leo nisi\, efficitur at felis sit amet\, lacinia auctor quam. Aliquam euismod pretium mattis. Aenean sollicitudin orci non orci gravida ullamcorper. Duis utres odios pellentesque\, efficiturs odio vitae\, aliquams arcu. Sed pulvinar lacus at neque imperdiet lobortis. Phasellus eget lectus rutrum\, fringilla nibh ut\, convallis orci. Quisque magna risus\, lacinia a pharetra vel\, gravida ac mi. Aenean ac interdum nisi\, et vehicula nisl. Suspendisse potenti. Cras leo ex\, congue eget dignissim nec\, porta maximus erat. Etiam ornare arcu neque\, in viverra eros egestas eu. Mauris diam velit\, dictum et vehicula nec\, sagittis nec sapien. Donec tincidunt purus et justo porttitor\, non porttitor quam fermentum orci non aliquams arcu dolores ipsums. \nDonec maximus a ante sit amet nisl nisi at arcu. Donec lobortis libero ex\, a sollicitudin neque volutpat. Aenean pretium nisi id lectus cursus sagittis. Aliquam sit amet nisl pretium\, consectetur purus non\, porta libero. Integer dui dui\, porta non mollis sit amet\, pharetra nec risus. Donec fringilla ex non arcu auctor\, vel faucibus felis pharetra. Pellentesque condimentum suscipit mi. Sed pretium\, tellus et efficitur dapibus\, metus nunc gravida ante\, at interdum nisl nisi at arcu. Donec lobortis libero ex\, a sollicitudin neque dapibus vitae. Maecenas volutpat est sit amet leo pretium mollis eu a odio dolores ipsums ficilis etras.
URL:https://lpbc.us/event/creative-kids-festval/
LOCATION:South Campus\, 1234 Apple Avenue\, New York City\, NY\, 111111\, United States
CATEGORIES:Community,Food,Music
ATTACH;FMTTYPE=image/jpeg:https://lpbc.us/wp-content/uploads/2015/09/event_5-compressor.jpg
ORGANIZER;CN="Avada Church":MAILTO:noreply@example.com
END:VEVENT
BEGIN:VEVENT
DTSTART;TZID=UTC:20210423T080000
DTEND;TZID=UTC:20210423T170000
DTSTAMP:20260423T220738
CREATED:20150917T004835Z
LAST-MODIFIED:20150917T004835Z
UID:447-1619164800-1619197200@lpbc.us
SUMMARY:Guided Tours
DESCRIPTION:Maecenas leo nisi\, efficitur at felis sit amet\, lacinia auctor quam. Aliquam euismod pretium mattis. Aenean sollicitudin orci non orci gravida ullamcorper. Duis utres odios pellentesque\, efficiturs odio vitae\, aliquams arcu. Sed pulvinar lacus at neque imperdiet lobortis. Phasellus eget lectus rutrum\, fringilla nibh ut\, convallis orci. Quisque magna risus\, lacinia a pharetra vel\, gravida ac mi. Aenean ac interdum nisi\, et vehicula nisl. Suspendisse potenti. Cras leo ex\, congue eget dignissim nec\, porta maximus erat. Etiam ornare arcu neque\, in viverra eros egestas eu. Mauris diam velit\, dictum et vehicula nec\, sagittis nec sapien. Donec tincidunt purus et justo porttitor\, non porttitor quam fermentum orci non aliquams arcu dolores ipsums. \nDonec maximus a ante sit amet nisl nisi at arcu. Donec lobortis libero ex\, a sollicitudin neque volutpat. Aenean pretium nisi id lectus cursus sagittis. Aliquam sit amet nisl pretium\, consectetur purus non\, porta libero. Integer dui dui\, porta non mollis sit amet\, pharetra nec risus. Donec fringilla ex non arcu auctor\, vel faucibus felis pharetra. Pellentesque condimentum suscipit mi. Sed pretium\, tellus et efficitur dapibus\, metus nunc gravida ante\, at interdum nisl nisi at arcu. Donec lobortis libero ex\, a sollicitudin neque dapibus vitae. Maecenas volutpat est sit amet leo pretium mollis eu a odio dolores ipsums ficilis etras.
URL:https://lpbc.us/event/guided-tours/
LOCATION:South Campus\, 1234 Apple Avenue\, New York City\, NY\, 111111\, United States
CATEGORIES:Community,Music,Outreach
ATTACH;FMTTYPE=image/jpeg:https://lpbc.us/wp-content/uploads/2015/09/event_13-compressor.jpg
ORGANIZER;CN="Avada Church":MAILTO:noreply@example.com
END:VEVENT
BEGIN:VEVENT
DTSTART;TZID=UTC:20210123T080000
DTEND;TZID=UTC:20210123T170000
DTSTAMP:20260423T220738
CREATED:20150916T214836Z
LAST-MODIFIED:20150916T214836Z
UID:433-1611388800-1611421200@lpbc.us
SUMMARY:Family Growth
DESCRIPTION:Maecenas leo nisi\, efficitur at felis sit amet\, lacinia auctor quam. Aliquam euismod pretium mattis. Aenean sollicitudin orci non orci gravida ullamcorper. Duis utres odios pellentesque\, efficiturs odio vitae\, aliquams arcu. Sed pulvinar lacus at neque imperdiet lobortis. Phasellus eget lectus rutrum\, fringilla nibh ut\, convallis orci. Quisque magna risus\, lacinia a pharetra vel\, gravida ac mi. Aenean ac interdum nisi\, et vehicula nisl. Suspendisse potenti. Cras leo ex\, congue eget dignissim nec\, porta maximus erat. Etiam ornare arcu neque\, in viverra eros egestas eu. Mauris diam velit\, dictum et vehicula nec\, sagittis nec sapien. Donec tincidunt purus et justo porttitor\, non porttitor quam fermentum orci non aliquams arcu dolores ipsums. \nDonec maximus a ante sit amet nisl nisi at arcu. Donec lobortis libero ex\, a sollicitudin neque volutpat. Aenean pretium nisi id lectus cursus sagittis. Aliquam sit amet nisl pretium\, consectetur purus non\, porta libero. Integer dui dui\, porta non mollis sit amet\, pharetra nec risus. Donec fringilla ex non arcu auctor\, vel faucibus felis pharetra. Pellentesque condimentum suscipit mi. Sed pretium\, tellus et efficitur dapibus\, metus nunc gravida ante\, at interdum nisl nisi at arcu. Donec lobortis libero ex\, a sollicitudin neque dapibus vitae. Maecenas volutpat est sit amet leo pretium mollis eu a odio dolores ipsums ficilis etras.
URL:https://lpbc.us/event/family-growth/
LOCATION:South Campus\, 1234 Apple Avenue\, New York City\, NY\, 111111\, United States
CATEGORIES:Community,Food,Music,Outreach
ATTACH;FMTTYPE=image/jpeg:https://lpbc.us/wp-content/uploads/2015/09/event_6-compressor.jpg
ORGANIZER;CN="Avada Church":MAILTO:noreply@example.com
END:VEVENT
END:VCALENDAR