BEGIN:VCALENDAR
VERSION:2.0
PRODID:-//Lane Prairie Baptist Church - ECPv6.15.11//NONSGML v1.0//EN
CALSCALE:GREGORIAN
METHOD:PUBLISH
X-ORIGINAL-URL:https://lpbc.us
X-WR-CALDESC:Events for Lane Prairie Baptist Church
REFRESH-INTERVAL;VALUE=DURATION:PT1H
X-Robots-Tag:noindex
X-PUBLISHED-TTL:PT1H
BEGIN:VTIMEZONE
TZID:America/Chicago
BEGIN:DAYLIGHT
TZOFFSETFROM:-0600
TZOFFSETTO:-0500
TZNAME:CDT
DTSTART:20150308T080000
END:DAYLIGHT
BEGIN:STANDARD
TZOFFSETFROM:-0500
TZOFFSETTO:-0600
TZNAME:CST
DTSTART:20151101T070000
END:STANDARD
BEGIN:DAYLIGHT
TZOFFSETFROM:-0600
TZOFFSETTO:-0500
TZNAME:CDT
DTSTART:20160313T080000
END:DAYLIGHT
BEGIN:STANDARD
TZOFFSETFROM:-0500
TZOFFSETTO:-0600
TZNAME:CST
DTSTART:20161106T070000
END:STANDARD
BEGIN:DAYLIGHT
TZOFFSETFROM:-0600
TZOFFSETTO:-0500
TZNAME:CDT
DTSTART:20170312T080000
END:DAYLIGHT
BEGIN:STANDARD
TZOFFSETFROM:-0500
TZOFFSETTO:-0600
TZNAME:CST
DTSTART:20171105T070000
END:STANDARD
BEGIN:DAYLIGHT
TZOFFSETFROM:-0600
TZOFFSETTO:-0500
TZNAME:CDT
DTSTART:20180311T080000
END:DAYLIGHT
BEGIN:STANDARD
TZOFFSETFROM:-0500
TZOFFSETTO:-0600
TZNAME:CST
DTSTART:20181104T070000
END:STANDARD
END:VTIMEZONE
BEGIN:VTIMEZONE
TZID:UTC
BEGIN:STANDARD
TZOFFSETFROM:+0000
TZOFFSETTO:+0000
TZNAME:UTC
DTSTART:20150101T000000
END:STANDARD
END:VTIMEZONE
BEGIN:VEVENT
DTSTART;TZID=America/Chicago:20171210T060000
DTEND;TZID=America/Chicago:20171210T200000
DTSTAMP:20260423T220133
CREATED:20171101T180208Z
LAST-MODIFIED:20171101T180208Z
UID:4442-1512885600-1512936000@lpbc.us
SUMMARY:K Groups
DESCRIPTION:
URL:https://lpbc.us/event/k-groups-4/
LOCATION:TX
CATEGORIES:Adult Events,Featured Events,Youth Events
ATTACH;FMTTYPE=image/jpeg:https://lpbc.us/wp-content/uploads/2017/07/K-Groups.jpg
END:VEVENT
BEGIN:VEVENT
DTSTART;TZID=America/Chicago:20171203T104500
DTEND;TZID=America/Chicago:20171203T120000
DTSTAMP:20260423T220133
CREATED:20171101T192914Z
LAST-MODIFIED:20171101T192914Z
UID:4455-1512297900-1512302400@lpbc.us
SUMMARY:Kid’s Choir Christmas Musical
DESCRIPTION:The Kid’s Choir Presents… \nCounting Down to Christmas \n  \nCaleb’s mom has offered to host this year’s Sunday School Christmas party at their home. Sounds great\, but… \n  \nCaleb’s mom\, Mrs. Marlin\, is a legendary\, no-nonsense\, “better get it right” math teacher who has had most of the kids from church in her math class at school. Convinced that his mom’s penchant for turning everything into a math lesson will take the fun out of the evening\, Caleb does his best to allay everyone’s fears that the party might get hijacked by a math quiz! During the course of the evening\, Mrs. Marlin shares the Christmas story as only a math teacher could; the songs tell the story…”Countdown\,” “What Sense Does a Census Make?”\, “Treegonometry\,” “He Can Count on Me\,” and “It All Adds Up with Joy to the World!.” Christmas by the numbers never sounded so good!!
URL:https://lpbc.us/event/kids-choir-christmas-musical-2/
LOCATION:Lane Prairie Baptist Church\, 412 County Road 704\, Joshua\, TX\, 76058\, United States
CATEGORIES:Adult Events,Children's Events,Featured Events,Youth Events
ATTACH;FMTTYPE=image/jpeg:https://lpbc.us/wp-content/uploads/2017/11/080689577178-square.jpg
END:VEVENT
BEGIN:VEVENT
DTSTART;TZID=America/Chicago:20171105T180000
DTEND;TZID=America/Chicago:20171105T200000
DTSTAMP:20260423T220133
CREATED:20171025T131035Z
LAST-MODIFIED:20171025T131035Z
UID:4432-1509904800-1509912000@lpbc.us
SUMMARY:K Groups
DESCRIPTION:
URL:https://lpbc.us/event/k-groups-3/
LOCATION:TX
CATEGORIES:Adult Events,Featured Events,Youth Events
ATTACH;FMTTYPE=image/jpeg:https://lpbc.us/wp-content/uploads/2017/07/K-Groups.jpg
END:VEVENT
BEGIN:VEVENT
DTSTART;TZID=America/Chicago:20171014T090000
DTEND;TZID=America/Chicago:20171014T160000
DTSTAMP:20260423T220133
CREATED:20170828T180016Z
LAST-MODIFIED:20170828T182108Z
UID:4369-1507971600-1507996800@lpbc.us
SUMMARY:Ladies Retreat
DESCRIPTION:Sweet Life Café Ladies Retreat is an experience that allows women to slow down and savor time with God and each other. It feels like a cozy day at your favorite coffee shop\, where women find rest\, enjoy laughter\, share their stories\, and grow closer to God. Lunch is provided. \nRegister Here \nDirections
URL:https://lpbc.us/event/ladies-retreat/
LOCATION:Peaceful Valley Retreat Center\, Glen Rose\, TX\, United States
CATEGORIES:Adult Events,Featured Events
ATTACH;FMTTYPE=image/jpeg:https://lpbc.us/wp-content/uploads/2017/08/Ladies-Retreat-2017.jpg
ORGANIZER;CN="LPBC Women's Ministry":MAILTO:iheartws2010@gmail.com
END:VEVENT
BEGIN:VEVENT
DTSTART;TZID=America/Chicago:20170924T180000
DTEND;TZID=America/Chicago:20170924T190000
DTSTAMP:20260423T220133
CREATED:20170823T154934Z
LAST-MODIFIED:20170823T154934Z
UID:4365-1506276000-1506279600@lpbc.us
SUMMARY:K Groups
DESCRIPTION:
URL:https://lpbc.us/event/k-groups-2/
LOCATION:TX
CATEGORIES:Adult Events,Featured Events
ATTACH;FMTTYPE=image/jpeg:https://lpbc.us/wp-content/uploads/2017/07/K-Groups.jpg
END:VEVENT
BEGIN:VEVENT
DTSTART;TZID=America/Chicago:20170917T190000
DTEND;TZID=America/Chicago:20170917T210000
DTSTAMP:20260423T220133
CREATED:20170823T152236Z
LAST-MODIFIED:20170823T152236Z
UID:4359-1505674800-1505682000@lpbc.us
SUMMARY:Team Impact Day 3
DESCRIPTION:
URL:https://lpbc.us/event/team-impact-day-3/
LOCATION:Lane Prairie Baptist Church\, 412 County Road 704\, Joshua\, TX\, 76058\, United States
CATEGORIES:Adult Events,Children's Events,Featured Events,Youth Events
ATTACH;FMTTYPE=image/png:https://lpbc.us/wp-content/uploads/2017/08/Team-Impact-e1503504999343.png
END:VEVENT
BEGIN:VEVENT
DTSTART;TZID=America/Chicago:20170916T190000
DTEND;TZID=America/Chicago:20170916T210000
DTSTAMP:20260423T220133
CREATED:20170823T152146Z
LAST-MODIFIED:20170823T152146Z
UID:4357-1505588400-1505595600@lpbc.us
SUMMARY:Team Impact Day 2
DESCRIPTION:
URL:https://lpbc.us/event/team-impact-day-2/
LOCATION:Lane Prairie Baptist Church\, 412 County Road 704\, Joshua\, TX\, 76058\, United States
CATEGORIES:Adult Events,Children's Events,Featured Events,Youth Events
ATTACH;FMTTYPE=image/png:https://lpbc.us/wp-content/uploads/2017/08/Team-Impact-e1503504999343.png
END:VEVENT
BEGIN:VEVENT
DTSTART;TZID=America/Chicago:20170915T190000
DTEND;TZID=America/Chicago:20170915T210000
DTSTAMP:20260423T220133
CREATED:20170823T151955Z
LAST-MODIFIED:20170823T152135Z
UID:4354-1505502000-1505509200@lpbc.us
SUMMARY:Team Impact Day 1
DESCRIPTION:
URL:https://lpbc.us/event/team-impact-day-1/
LOCATION:Lane Prairie Baptist Church\, 412 County Road 704\, Joshua\, TX\, 76058\, United States
CATEGORIES:Adult Events,Children's Events,Featured Events,Youth Events
ATTACH;FMTTYPE=image/png:https://lpbc.us/wp-content/uploads/2017/08/Team-Impact-e1503504999343.png
END:VEVENT
BEGIN:VEVENT
DTSTART;TZID=America/Chicago:20170908T180000
DTEND;TZID=America/Chicago:20170909T180000
DTSTAMP:20260423T220133
CREATED:20170717T203918Z
LAST-MODIFIED:20170717T203918Z
UID:4272-1504893600-1504980000@lpbc.us
SUMMARY:24 Hours Of Prayer
DESCRIPTION:
URL:https://lpbc.us/event/24-hours-of-prayer/
LOCATION:Lane Prairie Baptist Church\, 412 County Road 704\, Joshua\, TX\, 76058\, United States
CATEGORIES:Adult Events,Featured Events
ATTACH;FMTTYPE=image/jpeg:https://lpbc.us/wp-content/uploads/2017/07/24hrprayer.jpg
END:VEVENT
BEGIN:VEVENT
DTSTART;TZID=America/Chicago:20170827T180000
DTEND;TZID=America/Chicago:20170827T190000
DTSTAMP:20260423T220133
CREATED:20170717T041303Z
LAST-MODIFIED:20170717T041303Z
UID:4268-1503856800-1503860400@lpbc.us
SUMMARY:K Groups
DESCRIPTION:
URL:https://lpbc.us/event/k-groups/
LOCATION:TX
CATEGORIES:Adult Events,Featured Events
ATTACH;FMTTYPE=image/jpeg:https://lpbc.us/wp-content/uploads/2017/07/K-Groups.jpg
END:VEVENT
BEGIN:VEVENT
DTSTART;TZID=America/Chicago:20170820T104500
DTEND;TZID=America/Chicago:20170820T140000
DTSTAMP:20260423T220133
CREATED:20170712T220021Z
LAST-MODIFIED:20170731T185617Z
UID:4209-1503225900-1503237600@lpbc.us
SUMMARY:Roundup Sunday
DESCRIPTION:Join us for Round Up on Sunday(8/20). Roscoe’s is catering lunch and it’s free for you\, you just need to sign up. Pony rides and petting zoo for the kids. Dr. Jimmy Draper will be preaching and Big John Hall will be leading the music!\n9:45am Bible Study\n10:45am Worship
URL:https://lpbc.us/event/roundup-sunday-2017/
LOCATION:Lane Prairie Baptist Church\, 412 County Road 704\, Joshua\, TX\, 76058\, United States
CATEGORIES:Featured Events
ATTACH;FMTTYPE=image/jpeg:https://lpbc.us/wp-content/uploads/2017/07/Roundup-Sunday.jpg
END:VEVENT
BEGIN:VEVENT
DTSTART;TZID=America/Chicago:20170812T090000
DTEND;TZID=America/Chicago:20170812T130000
DTSTAMP:20260423T220133
CREATED:20170601T160016Z
LAST-MODIFIED:20170717T040249Z
UID:4190-1502528400-1502542800@lpbc.us
SUMMARY:Operation Backpack 2017
DESCRIPTION:Operation backpack is just around the corner\, August 12 from 9:00 am – 1:00 pm!  If you have a school aged child (grades K-12) that is in need\, please register your child to receive a backpack. \n  \n«Register Here» \n  \n\n  \nContact: \nJustin Steadman\n e. jsteadman@lpbc.us \n   p. (817) 517 – 5044
URL:https://lpbc.us/event/operation-backpack-2017/
LOCATION:Lane Prairie Baptist Church\, 412 County Road 704\, Joshua\, TX\, 76058\, United States
CATEGORIES:Children's Events,Featured Events
ATTACH;FMTTYPE=image/png:https://lpbc.us/wp-content/uploads/2017/06/Operation-Backpack.png
END:VEVENT
BEGIN:VEVENT
DTSTART;TZID=America/Chicago:20170612T090000
DTEND;TZID=America/Chicago:20170616T120000
DTSTAMP:20260423T220133
CREATED:20170301T191105Z
LAST-MODIFIED:20170419T172923Z
UID:4084-1497258000-1497614400@lpbc.us
SUMMARY:VBS 2017
DESCRIPTION:Galactic Starveyors VBS is coming up June 12-16\, each day from 9:00am-12:00pm.  Turn your kids into Galactic Starveyors! As kids focus their telescopes on the marvels painted in the sky by the Creator\, they will discover the wonder among all wonders—that the God who created everything there is—the knowable and the unknowable\, the visible and the invisible—wants a personal relationship with them! Invite your kids into the clubhouse and show them the God who is over the moon in love with them. \n«Register Here»
URL:https://lpbc.us/event/vbs-2017/
LOCATION:Lane Prairie Baptist Church\, 412 County Road 704\, Joshua\, TX\, 76058\, United States
CATEGORIES:Children's Events,Featured Events
ATTACH;FMTTYPE=image/png:https://lpbc.us/wp-content/uploads/2017/03/Twitter_InStream-2.png
END:VEVENT
BEGIN:VEVENT
DTSTART;TZID=America/Chicago:20170605T080000
DTEND;TZID=America/Chicago:20170609T180000
DTSTAMP:20260423T220133
CREATED:20170419T170200Z
LAST-MODIFIED:20170524T125317Z
UID:4117-1496649600-1497031200@lpbc.us
SUMMARY:Encounter Week Student Camp
DESCRIPTION:Mark your calendars\, invite your friends\, and get ready for the best week of the year!  This will be an exciting year as we welcome several new churches and we re-brand camp with a new name: Encounter Week! \nSo often in scripture we see the story of God’s people encountering their God in encounters that radically change their lives!  One instance is in Exodus 19 when we first see Moses go to Mt. Sinai and meet with God – Moses’ life and the lives of God’s people\, the Hebrews\, are changed because of those encounters with their God.  As we prepare for camp\, our prayer is that Encounter Week would be just that – a week encompassed by an encounter with the living God that will forever change who we are! \n«Registration»
URL:https://lpbc.us/event/encounter-week-student-camp-2017/
LOCATION:Riverbend Retreat Center\, Glen Rose\, Texas\, 1232-C County Road 411B\, Glen Rose\, TX\, 76043\, United States
CATEGORIES:Featured Events,Youth Events
ATTACH;FMTTYPE=image/jpeg:https://lpbc.us/wp-content/uploads/2017/04/encounterweek-logo-e1492624371979.jpg
END:VEVENT
BEGIN:VEVENT
DTSTART;TZID=America/Chicago:20170528T120000
DTEND;TZID=America/Chicago:20170528T140000
DTSTAMP:20260423T220133
CREATED:20170510T154441Z
LAST-MODIFIED:20170517T132445Z
UID:4175-1495972800-1495980000@lpbc.us
SUMMARY:Memorial Day Cookout
DESCRIPTION:Don’t forget about the Memorial Day cookout\, Sunday\, May 28 @ noon. The church is providing the hamburgers\, hotdogs\, and buns. Please bring sides and desserts. Also\, bring your favorite games. (Board games\, washers\, cornhole\, horse shoes)
URL:https://lpbc.us/event/memorial-day-cookout/
LOCATION:Lane Prairie Baptist Church\, 412 County Road 704\, Joshua\, TX\, 76058\, United States
CATEGORIES:Featured Events
ATTACH;FMTTYPE=image/jpeg:https://lpbc.us/wp-content/uploads/2017/05/Memorial-Day-Cookout-1.jpg
END:VEVENT
BEGIN:VEVENT
DTSTART;TZID=America/Chicago:20170322T110000
DTEND;TZID=America/Chicago:20170322T130000
DTSTAMP:20260423T220133
CREATED:20170208T201625Z
LAST-MODIFIED:20170301T210151Z
UID:4079-1490180400-1490187600@lpbc.us
SUMMARY:Senior Sing A-long
DESCRIPTION:
URL:https://lpbc.us/event/senior-sing-a-long/
LOCATION:Lane Prairie Baptist Church\, 412 County Road 704\, Joshua\, TX\, 76058\, United States
CATEGORIES:Adult Events,Featured Events
ATTACH;FMTTYPE=image/jpeg:https://lpbc.us/wp-content/uploads/2017/02/Senior-Sing-Along.jpg
END:VEVENT
BEGIN:VEVENT
DTSTART;TZID=America/Chicago:20170101T104500
DTEND;TZID=America/Chicago:20170101T120000
DTSTAMP:20260423T220133
CREATED:20161214T215249Z
LAST-MODIFIED:20161214T215433Z
UID:4047-1483267500-1483272000@lpbc.us
SUMMARY:New Year's Day Service
DESCRIPTION:Join us for our New Year’s Day Service. We will only be meeting for morning worship at 10:45am.
URL:https://lpbc.us/event/new-years-day-service/
LOCATION:Lane Prairie Baptist Church\, 412 County Road 704\, Joshua\, TX\, 76058\, United States
CATEGORIES:Featured Events
ATTACH;FMTTYPE=image/jpeg:https://lpbc.us/wp-content/uploads/2016/12/New-Years-Day.jpg
END:VEVENT
BEGIN:VEVENT
DTSTART;TZID=America/Chicago:20161225T104500
DTEND;TZID=America/Chicago:20161225T120000
DTSTAMP:20260423T220133
CREATED:20161214T214651Z
LAST-MODIFIED:20161214T214651Z
UID:4044-1482662700-1482667200@lpbc.us
SUMMARY:Christmas Day Service
DESCRIPTION:Join us Christmas morning for our morning worship service at 10:45am as we celebrate our King of Kings.
URL:https://lpbc.us/event/christmas-day-service/
LOCATION:Lane Prairie Baptist Church\, 412 County Road 704\, Joshua\, TX\, 76058\, United States
CATEGORIES:Featured Events
ATTACH;FMTTYPE=image/jpeg:https://lpbc.us/wp-content/uploads/2016/12/Christmas-Day.jpg
END:VEVENT
BEGIN:VEVENT
DTSTART;TZID=America/Chicago:20161218T104500
DTEND;TZID=America/Chicago:20161218T120000
DTSTAMP:20260423T220133
CREATED:20161130T201744Z
LAST-MODIFIED:20161130T212024Z
UID:4026-1482057900-1482062400@lpbc.us
SUMMARY:Adult Choir Christmas Musical
DESCRIPTION:The Worship & Music Ministry Presents…\n He Shall Be Called \n  \nHe Shall Be Called\, Wonderful Counselor\, Mighty God\, Everlasting Father\, Prince of Peace\, Emmanuel\, Bless the Name of Jesus and Savior… from beginning to end\, this dynamic new musical honors and glorifies His Name and celebrates His glorious birth! You don’t want to miss it. \n  \nAdmission is Free \nSunday\, December 18\, 10:45 AM
URL:https://lpbc.us/event/adult-christmas-musical/
LOCATION:Lane Prairie Baptist Church\, 412 County Road 704\, Joshua\, TX\, 76058\, United States
CATEGORIES:Adult Events,Featured Events
ATTACH;FMTTYPE=image/png:https://lpbc.us/wp-content/uploads/2016/11/Adult-Christmas-Musical-1.png
END:VEVENT
BEGIN:VEVENT
DTSTART;TZID=America/Chicago:20161204T180000
DTEND;TZID=America/Chicago:20161204T190000
DTSTAMP:20260423T220133
CREATED:20161130T211453Z
LAST-MODIFIED:20161130T211453Z
UID:4034-1480874400-1480878000@lpbc.us
SUMMARY:Kids Choir Christmas Musical
DESCRIPTION:The Kids Choir presents a Christmas musical filled with songs to draw the heart closer to the true hope and joy of the season. Join us as we lift up choruses of worship and relive the miraculous story of Christ’s birth. \n  \nFree Admission \nSunday\, December 4\, 6PM
URL:https://lpbc.us/event/kids-choir-christmas-musical/
LOCATION:Lane Prairie Baptist Church\, 412 County Road 704\, Joshua\, TX\, 76058\, United States
CATEGORIES:Children's Events,Featured Events
ATTACH;FMTTYPE=image/png:https://lpbc.us/wp-content/uploads/2016/11/Kids-Christmas-Musical.png
END:VEVENT
BEGIN:VEVENT
DTSTART;TZID=UTC:20160813T100000
DTEND;TZID=UTC:20160813T130000
DTSTAMP:20260423T220133
CREATED:20160630T015921Z
LAST-MODIFIED:20170517T160128Z
UID:3627-1471082400-1471093200@lpbc.us
SUMMARY:Operation Backpack 2016
DESCRIPTION:<<Click Here to Register>>
URL:https://lpbc.us/event/operation-backpack-2016/
LOCATION:Lane Prairie Baptist Church\, 412 County Road 704\, Joshua\, TX\, 76058\, United States
CATEGORIES:Children's Events,Featured Events
ATTACH;FMTTYPE=image/gif:https://lpbc.us/wp-content/uploads/2016/06/OperationBackpackTransLogo.gif
END:VEVENT
BEGIN:VEVENT
DTSTART;VALUE=DATE:20160620
DTEND;VALUE=DATE:20160625
DTSTAMP:20260423T220133
CREATED:20160605T013445Z
LAST-MODIFIED:20170517T160128Z
UID:3556-1466380800-1466812799@lpbc.us
SUMMARY:XFuge Youth Camp
DESCRIPTION:Cost: $350\, $50 deposit due by January 27\n\nFinal Payment & forms due at mandatory Parent/Student Meeting on June 5 (after Pm Worship Service)\nCamp Form <<<Click Here\n\n\nScholarship\n\nIf you are in need of assistance with the cost of camp\, please contact me.  We have funds available to help any who have a need.\n\n\nPlease feel free to email\, call or text me\, if you have any questions.
URL:https://lpbc.us/event/xfuge-camp/
LOCATION:Houston Baptist University\, 7502 Fondren Rd\, Houston\, TX\, 77074\, United States
CATEGORIES:Featured Events,Youth Events
ATTACH;FMTTYPE=image/jpeg:https://lpbc.us/wp-content/uploads/2016/05/2016Theme.jpg
END:VEVENT
BEGIN:VEVENT
DTSTART;TZID=UTC:20160613T090000
DTEND;TZID=UTC:20160617T120000
DTSTAMP:20260423T220133
CREATED:20160603T050534Z
LAST-MODIFIED:20170517T160128Z
UID:3400-1465808400-1466164800@lpbc.us
SUMMARY:VBS 2016
DESCRIPTION:Submerged VBS is coming up June 13-17\, each day from 9:00am-12:00pm. This summer\, take your kids on an adventure like no other\, deep within the mysterious sea. As kids submerge themselves in God’s Word\, they will discover that Jesus didn’t just see what’s on the outside of people. He looked deep down on the inside. So grab your goggles\, step into your flippers\, and dive in to find truth below the surface!
URL:https://lpbc.us/event/new-event/
LOCATION:Lane Prairie Baptist Church\, 412 County Road 704\, Joshua\, TX\, 76058\, United States
CATEGORIES:Children's Events,Featured Events
ATTACH;FMTTYPE=image/png:https://lpbc.us/wp-content/uploads/2016/05/vbs.png
END:VEVENT
BEGIN:VEVENT
DTSTART;TZID=UTC:20160612T190000
DTEND;TZID=UTC:20160612T210000
DTSTAMP:20260423T220133
CREATED:20160605T013735Z
LAST-MODIFIED:20170517T160128Z
UID:3558-1465758000-1465765200@lpbc.us
SUMMARY:SNAC - Parents vs Students Spoons Tournament
DESCRIPTION:Join us on June 12th for SNAC (Sunday Night After Church) .  We will be having a Parent vs Student Spoons tournament.
URL:https://lpbc.us/event/snac-parents-vs-students-spoon-tournament/
LOCATION:Lane Prairie Baptist Church\, 412 County Road 704\, Joshua\, TX\, 76058\, United States
CATEGORIES:Featured Events,Youth Events
ATTACH;FMTTYPE=image/jpeg:https://lpbc.us/wp-content/uploads/2016/05/snac.jpg
END:VEVENT
BEGIN:VEVENT
DTSTART;TZID=UTC:20160605T193000
DTEND;TZID=UTC:20160605T193000
DTSTAMP:20260423T220133
CREATED:20160605T024039Z
LAST-MODIFIED:20170517T160128Z
UID:3589-1465155000-1465155000@lpbc.us
SUMMARY:Youth Camp Meeting
DESCRIPTION:Camp forms and money will be due at this Parent & Student Meeting for camp. Forms can be found on the Youth Blog\, we will have a notary available at the meeting for forms.
URL:https://lpbc.us/event/youth-camp-meeting/
LOCATION:Lane Prairie Baptist Church\, 412 County Road 704\, Joshua\, TX\, 76058\, United States
CATEGORIES:Featured Events,Youth Events
ATTACH;FMTTYPE=image/jpeg:https://lpbc.us/wp-content/uploads/2016/05/2016Theme.jpg
END:VEVENT
END:VCALENDAR