BEGIN:VCALENDAR
VERSION:2.0
PRODID:-//Lane Prairie Baptist Church - ECPv6.15.11//NONSGML v1.0//EN
CALSCALE:GREGORIAN
METHOD:PUBLISH
X-WR-CALNAME:Lane Prairie Baptist Church
X-ORIGINAL-URL:https://lpbc.us
X-WR-CALDESC:Events for Lane Prairie Baptist Church
REFRESH-INTERVAL;VALUE=DURATION:PT1H
X-Robots-Tag:noindex
X-PUBLISHED-TTL:PT1H
BEGIN:VTIMEZONE
TZID:America/Chicago
BEGIN:DAYLIGHT
TZOFFSETFROM:-0600
TZOFFSETTO:-0500
TZNAME:CDT
DTSTART:20170312T080000
END:DAYLIGHT
BEGIN:STANDARD
TZOFFSETFROM:-0500
TZOFFSETTO:-0600
TZNAME:CST
DTSTART:20171105T070000
END:STANDARD
BEGIN:DAYLIGHT
TZOFFSETFROM:-0600
TZOFFSETTO:-0500
TZNAME:CDT
DTSTART:20180311T080000
END:DAYLIGHT
BEGIN:STANDARD
TZOFFSETFROM:-0500
TZOFFSETTO:-0600
TZNAME:CST
DTSTART:20181104T070000
END:STANDARD
BEGIN:DAYLIGHT
TZOFFSETFROM:-0600
TZOFFSETTO:-0500
TZNAME:CDT
DTSTART:20190310T080000
END:DAYLIGHT
BEGIN:STANDARD
TZOFFSETFROM:-0500
TZOFFSETTO:-0600
TZNAME:CST
DTSTART:20191103T070000
END:STANDARD
BEGIN:DAYLIGHT
TZOFFSETFROM:-0600
TZOFFSETTO:-0500
TZNAME:CDT
DTSTART:20200308T080000
END:DAYLIGHT
BEGIN:STANDARD
TZOFFSETFROM:-0500
TZOFFSETTO:-0600
TZNAME:CST
DTSTART:20201101T070000
END:STANDARD
BEGIN:DAYLIGHT
TZOFFSETFROM:-0600
TZOFFSETTO:-0500
TZNAME:CDT
DTSTART:20210314T080000
END:DAYLIGHT
BEGIN:STANDARD
TZOFFSETFROM:-0500
TZOFFSETTO:-0600
TZNAME:CST
DTSTART:20211107T070000
END:STANDARD
BEGIN:DAYLIGHT
TZOFFSETFROM:-0600
TZOFFSETTO:-0500
TZNAME:CDT
DTSTART:20220313T080000
END:DAYLIGHT
BEGIN:STANDARD
TZOFFSETFROM:-0500
TZOFFSETTO:-0600
TZNAME:CST
DTSTART:20221106T070000
END:STANDARD
END:VTIMEZONE
BEGIN:VTIMEZONE
TZID:America/Chicago
BEGIN:DAYLIGHT
TZOFFSETFROM:-0600
TZOFFSETTO:-0500
TZNAME:CDT
DTSTART:20170312T080000
END:DAYLIGHT
BEGIN:STANDARD
TZOFFSETFROM:-0500
TZOFFSETTO:-0600
TZNAME:CST
DTSTART:20171105T070000
END:STANDARD
BEGIN:DAYLIGHT
TZOFFSETFROM:-0600
TZOFFSETTO:-0500
TZNAME:CDT
DTSTART:20180311T080000
END:DAYLIGHT
BEGIN:STANDARD
TZOFFSETFROM:-0500
TZOFFSETTO:-0600
TZNAME:CST
DTSTART:20181104T070000
END:STANDARD
BEGIN:DAYLIGHT
TZOFFSETFROM:-0600
TZOFFSETTO:-0500
TZNAME:CDT
DTSTART:20190310T080000
END:DAYLIGHT
BEGIN:STANDARD
TZOFFSETFROM:-0500
TZOFFSETTO:-0600
TZNAME:CST
DTSTART:20191103T070000
END:STANDARD
BEGIN:DAYLIGHT
TZOFFSETFROM:-0600
TZOFFSETTO:-0500
TZNAME:CDT
DTSTART:20200308T080000
END:DAYLIGHT
BEGIN:STANDARD
TZOFFSETFROM:-0500
TZOFFSETTO:-0600
TZNAME:CST
DTSTART:20201101T070000
END:STANDARD
BEGIN:DAYLIGHT
TZOFFSETFROM:-0600
TZOFFSETTO:-0500
TZNAME:CDT
DTSTART:20210314T080000
END:DAYLIGHT
BEGIN:STANDARD
TZOFFSETFROM:-0500
TZOFFSETTO:-0600
TZNAME:CST
DTSTART:20211107T070000
END:STANDARD
END:VTIMEZONE
BEGIN:VEVENT
DTSTART;TZID=America/Chicago:20210614T090000
DTEND;TZID=America/Chicago:20210618T120000
DTSTAMP:20260423T163905
CREATED:20210317T155105Z
LAST-MODIFIED:20210317T160101Z
UID:5411-1623661200-1624017600@lpbc.us
SUMMARY:VBS 2021
DESCRIPTION:VBS 2021 is headed to present-day Israel where discovery awaits at Destination Dig. Kids will unearth more than dirt as they dig up exciting evidence that proves biblical events were not just stories. As junior archaeologists\, kids will explore real-life archaeological finds that have helped to uncover the truth about Jesus! Along the way\, they’ll discover the truth of Jeremiah 29:13\, that God reveals Himself to us when we seek and search for Him with all our hearts. Join us on this adventure each day from 9:00am – Noon. \n>>REGISTER<<
URL:https://lpbc.us/event/vbs-2021/
LOCATION:Lane Prairie Baptist Church\, 412 County Road 704\, Joshua\, TX\, 76058\, United States
CATEGORIES:Children's Events,Featured Events
ATTACH;FMTTYPE=image/jpeg:https://lpbc.us/wp-content/uploads/2021/03/5F2992E5-AEAF-4CEB-8D6E-B7FB7991F878.jpeg
END:VEVENT
BEGIN:VEVENT
DTSTART;TZID=America/Chicago:20210516T104500
DTEND;TZID=America/Chicago:20210516T120000
DTSTAMP:20260423T163905
CREATED:20210415T183142Z
LAST-MODIFIED:20210421T185603Z
UID:5419-1621161900-1621166400@lpbc.us
SUMMARY:150th Anniversary Service
DESCRIPTION:In 1871 a group of believers came together\, and Lane Prairie Baptist Church came into existence. 150 years later Lane Prairie Baptist is still an outpost for the Gospel in Johnson County. Join us May 16 at 10:45am\, as we remember the past\, and look to the future. Dr Tony Wolfe (www.tonywolfe.net)\, from the Southern Baptists of Texas Convention – SBTC\, will be with us to share from God’s Word. To God be the glory\, great things He has done!
URL:https://lpbc.us/event/150th-anniversary-service/
LOCATION:Lane Prairie Baptist Church\, 412 County Road 704\, Joshua\, TX\, 76058\, United States
CATEGORIES:Featured Events
ATTACH;FMTTYPE=image/jpeg:https://lpbc.us/wp-content/uploads/2021/04/150th.jpg
END:VEVENT
BEGIN:VEVENT
DTSTART;TZID=America/Chicago:20200816T180000
DTEND;TZID=America/Chicago:20200816T190000
DTSTAMP:20260423T163905
CREATED:20200802T182445Z
LAST-MODIFIED:20200810T160012Z
UID:4558-1597600800-1597604400@lpbc.us
SUMMARY:Business Meeting
DESCRIPTION:Download (PDF\, 74KB) \n\nDownload (PDF\, 76KB) \n\nDownload (PDF\, 18KB)
URL:https://lpbc.us/event/business-meeting-2/
LOCATION:Lane Prairie Baptist Church\, 412 County Road 704\, Joshua\, TX\, 76058\, United States
CATEGORIES:Adult Events,Featured Events
ATTACH;FMTTYPE=image/jpeg:https://lpbc.us/wp-content/uploads/2018/01/Church-Business-Meeting.jpg
END:VEVENT
BEGIN:VEVENT
DTSTART;TZID=America/Chicago:20200607T090000
DTEND;TZID=America/Chicago:20200607T120000
DTSTAMP:20260423T163905
CREATED:20200601T184742Z
LAST-MODIFIED:20200601T185011Z
UID:5358-1591520400-1591531200@lpbc.us
SUMMARY:Worship Service
DESCRIPTION:We are excited to gather for corporate worship this Sunday\, June 7th at LPBC! We will be having 2 services\, 9:00am and 10:45am\, so that we can abide by current social distancing guidelines. In order to help maintain appropriate spacing\, we have limited the service sizes to 130\, and we need you to sign up for the service you plan to attend. On the sign-up you will need to click one “Sign up” box for each family member attending the service\, then click the “Submit and Sign Up”. On the next page it will ask for your name. If you have any questions or issues\, please contact Bro Ricky. \nWe will be doing a Facebook Live later this week\, that will walk you through how Sunday will work from when you arrive to when you leave the end of service. \n9:00am Service – https://www.signupgenius.com/go/70A0D4AAAAA2FA2F94-worship \n10:45am Service – https://www.signupgenius.com/go/70A0D4AAAAA2FA2F94-worship1
URL:https://lpbc.us/event/worship-service/
LOCATION:Lane Prairie Baptist Church\, 412 County Road 704\, Joshua\, TX\, 76058\, United States
CATEGORIES:Featured Events
ATTACH;FMTTYPE=image/jpeg:https://lpbc.us/wp-content/uploads/2020/06/Our-Plans-For-Reopening-Blue-Cartoon-Illustrations-Title.jpg
END:VEVENT
BEGIN:VEVENT
DTSTART;TZID=America/Chicago:20200215T180000
DTEND;TZID=America/Chicago:20200215T193000
DTSTAMP:20260423T163905
CREATED:20200101T155313Z
LAST-MODIFIED:20200214T233647Z
UID:4966-1581789600-1581795000@lpbc.us
SUMMARY:LPBC Basketball Celebration
DESCRIPTION:Join us as we celebrate another great year of LPBC Baksteball.  Dennis Lee will be with us\, presenting\, Brave Heart in a Wild\, Wacky World\,  and we will be handing out awards.  https://dennisleeproductions.com/
URL:https://lpbc.us/event/lpbc-basketball-celebration/
LOCATION:Lane Prairie Baptist Church\, 412 County Road 704\, Joshua\, TX\, 76058\, United States
CATEGORIES:Children's Events,Featured Events
ATTACH;FMTTYPE=image/jpeg:https://lpbc.us/wp-content/uploads/2020/01/102628-poster-2-002-scaled.jpg
END:VEVENT
BEGIN:VEVENT
DTSTART;TZID=America/Chicago:20200119T120000
DTEND;TZID=America/Chicago:20200119T140000
DTSTAMP:20260423T163905
CREATED:20191230T161127Z
LAST-MODIFIED:20200109T193448Z
UID:4607-1579435200-1579442400@lpbc.us
SUMMARY:Jake Turner 5th Anniversary Celebration
DESCRIPTION:Please join us as we honor Jake Turner for 5 years of service as Minister of Music. We will be having a Mexican potluck lunch following the Morning Worship service. Please bring your favorite Mexican dish\, as well as any cards and gift cards you would like to give him.
URL:https://lpbc.us/event/jake-turner-anniversary-celebration/
LOCATION:Lane Prairie Baptist Church\, 412 County Road 704\, Joshua\, TX\, 76058\, United States
CATEGORIES:Featured Events
ATTACH;FMTTYPE=image/png:https://lpbc.us/wp-content/uploads/2018/05/5th-Anniversary.png
END:VEVENT
BEGIN:VEVENT
DTSTART;TZID=America/Chicago:20200111T090000
DTEND;TZID=America/Chicago:20200111T170000
DTSTAMP:20260423T163905
CREATED:20191228T140856Z
LAST-MODIFIED:20200102T171020Z
UID:4493-1578733200-1578762000@lpbc.us
SUMMARY:LPBC Basketball League 1st Game
DESCRIPTION:
URL:https://lpbc.us/event/lpbc-basketball-league-1st-game/
LOCATION:Lane Prairie Baptist Church\, 412 County Road 704\, Joshua\, TX\, 76058\, United States
CATEGORIES:Children's Events,Featured Events
ATTACH;FMTTYPE=image/jpeg:https://lpbc.us/wp-content/uploads/2016/10/lpbc-basketball1.jpg
END:VEVENT
BEGIN:VEVENT
DTSTART;TZID=America/Chicago:20191023T110000
DTEND;TZID=America/Chicago:20191023T130000
DTSTAMP:20260423T163905
CREATED:20190905T141629Z
LAST-MODIFIED:20190905T143344Z
UID:4499-1571828400-1571835600@lpbc.us
SUMMARY:Senior Sing A-Long
DESCRIPTION:
URL:https://lpbc.us/event/senior-sing-a-long-2/
LOCATION:Northpointe Church\, 2450 SW Wilshire Blvd\, Burleson\, TX\, 76028\, United States
CATEGORIES:Adult Events,Featured Events
ATTACH;FMTTYPE=image/jpeg:https://lpbc.us/wp-content/uploads/2018/01/Senior-Sing-Along.jpg
ORGANIZER;CN="":MAILTO:mqueen@swbts.edu
END:VEVENT
BEGIN:VEVENT
DTSTART;TZID=America/Chicago:20191020T104500
DTEND;TZID=America/Chicago:20191020T120000
DTSTAMP:20260423T163905
CREATED:20190911T192629Z
LAST-MODIFIED:20191011T193323Z
UID:5195-1571568300-1571572800@lpbc.us
SUMMARY:Joint Worship Service
DESCRIPTION:Our mission church\, Iglesia Bautista Nueva Vida\, will be joining us for worship on Sunday\, October 20th at 10:45am.  Pastor Santos Fuentes will be preaching in our service\, in both English and Spanish.  Make plans to join us for a great day.
URL:https://lpbc.us/event/joint-worship-service/
LOCATION:Lane Prairie Baptist Church\, 412 County Road 704\, Joshua\, TX\, 76058\, United States
CATEGORIES:Adult Events,Featured Events
ATTACH;FMTTYPE=image/png:https://lpbc.us/wp-content/uploads/2019/10/Joint-worship.png
END:VEVENT
BEGIN:VEVENT
DTSTART;TZID=America/Chicago:20191006T104500
DTEND;TZID=America/Chicago:20191006T120000
DTSTAMP:20260423T163905
CREATED:20190823T153550Z
LAST-MODIFIED:20190905T141548Z
UID:4361-1570358700-1570363200@lpbc.us
SUMMARY:Blackwood Quartet
DESCRIPTION:The Blackwood Quartet is a gospel group that consists of brothers Roy\, Doyle and James Blackwood\, along with Roy’s son R.W. Bill Shaw and Bill Lyles later joined the group with James and R.W. Blackwood. This gospel country quartet started featuring on TV shows across the nation including Barbara Mandrell and the Mandrell Sisters\, Hee Haw and many more. \n  \nFree lunch for senior adults. You can sign up by contacting the office at (817) 645 – 8797.
URL:https://lpbc.us/event/blackwood-quartet/
LOCATION:Lane Prairie Baptist Church\, 412 County Road 704\, Joshua\, TX\, 76058\, United States
CATEGORIES:Adult Events,Featured Events
ATTACH;FMTTYPE=image/jpeg:https://lpbc.us/wp-content/uploads/2017/08/Blackwood-QT-Table.alt_.jpg
END:VEVENT
BEGIN:VEVENT
DTSTART;TZID=America/Chicago:20190925T110000
DTEND;TZID=America/Chicago:20190925T130000
DTSTAMP:20260423T163905
CREATED:20190807T182950Z
LAST-MODIFIED:20190905T142522Z
UID:4560-1569409200-1569416400@lpbc.us
SUMMARY:Senior Sing-A-Long
DESCRIPTION:
URL:https://lpbc.us/event/senior-sing-a-long-3/
LOCATION:Lane Prairie Baptist Church\, 412 County Road 704\, Joshua\, TX\, 76058\, United States
CATEGORIES:Adult Events,Featured Events
ATTACH;FMTTYPE=image/jpeg:https://lpbc.us/wp-content/uploads/2018/01/Senior-Sing-Along.jpg
END:VEVENT
BEGIN:VEVENT
DTSTART;TZID=America/Chicago:20190915T180000
DTEND;TZID=America/Chicago:20190915T190000
DTSTAMP:20260423T163905
CREATED:20190819T204505Z
LAST-MODIFIED:20190819T204505Z
UID:5159-1568570400-1568574000@lpbc.us
SUMMARY:Chosen People Ministries
DESCRIPTION:Join us as Jim Fox from Chosen People Ministries presents how the Gospel is revealed in the Fall Feasts of Israel. \n\nRosh Hashanah (Feast of Trumpets)\, which celebrates the beginning of the Jewish Civil year.\nYom Kippur (Day of Atonement)\, which is considered the holiest day of the Jewish year.\nSukkot (Feast of Tabernacles/Booths)\, which recalls 40 years of wandering in the wilderness\, living in tents (booths) and worshiping in a portable tabernacle.
URL:https://lpbc.us/event/chosen-people-ministries/
LOCATION:Lane Prairie Baptist Church\, 412 County Road 704\, Joshua\, TX\, 76058\, United States
CATEGORIES:Adult Events,Featured Events
ATTACH;FMTTYPE=image/jpeg:https://lpbc.us/wp-content/uploads/2019/08/2013-07-30.jpeg
END:VEVENT
BEGIN:VEVENT
DTSTART;TZID=America/Chicago:20190821T183000
DTEND;TZID=America/Chicago:20190821T194500
DTSTAMP:20260423T163905
CREATED:20190807T142922Z
LAST-MODIFIED:20190807T142951Z
UID:5114-1566412200-1566416700@lpbc.us
SUMMARY:AWANA Registration
DESCRIPTION:We are excited for our 20th year of AWANAs at LPBC.  Show up and register your child for AWANA in the Family Life Center\, it is free! \n 
URL:https://lpbc.us/event/awana-registration/
LOCATION:Lane Prairie Baptist Church\, 412 County Road 704\, Joshua\, TX\, 76058\, United States
CATEGORIES:Children's Events,Featured Events
ATTACH;FMTTYPE=image/jpeg:https://lpbc.us/wp-content/uploads/2019/07/awana.jpg
END:VEVENT
BEGIN:VEVENT
DTSTART;TZID=America/Chicago:20190610T090000
DTEND;TZID=America/Chicago:20190614T120000
DTSTAMP:20260423T163905
CREATED:20190318T152107Z
LAST-MODIFIED:20190318T154323Z
UID:5017-1560157200-1560513600@lpbc.us
SUMMARY:VBS 2019
DESCRIPTION:Throw on your camera strap and buckle your seatbelt. VBS 2019 takes you on a wild adventure—with elephants and egrets\, polar bears and penguins\, cockatoos and crocodiles. As you seek out exotic animals\, you’ll also find snapshots of real-life encounters with Jesus in Scripture. Kids go from bewildered to believing as they get In The Wild at this summer’s VBS.  Join us on this adventure each day from 9:00am- noon. \n<<<REGISTER>>>
URL:https://lpbc.us/event/vbs-2019/
LOCATION:Lane Prairie Baptist Church\, 412 County Road 704\, Joshua\, TX\, 76058\, United States
CATEGORIES:Children's Events,Featured Events
ATTACH;FMTTYPE=image/png:https://lpbc.us/wp-content/uploads/2019/03/2019-logo.png
END:VEVENT
BEGIN:VEVENT
DTSTART;TZID=America/Chicago:20190505T104500
DTEND;TZID=America/Chicago:20190505T120000
DTSTAMP:20260423T163905
CREATED:20190403T153357Z
LAST-MODIFIED:20190403T153357Z
UID:5039-1557053100-1557057600@lpbc.us
SUMMARY:Spring Kid's Musical
DESCRIPTION:Pastor Stan needs help…he wants to do a sermon on “The Bible\,” but he needs to cover the entire Bible in 25-minutes! As impossible as it may sound\, Pastor Stan knows just who to turn to. He’ll hire the world’s most famous kid-operated advertising agency——B.I.G.! With the help of crack creative team B.I.G\, Pastor Stand knows he’ll get exactly what he needs! \nFrom there the group’s Big-Bible-Bundle highlights how\, even though God first created a perfect world\, Adam and Eve made a decision that allowed sin to enter the world. This was The BIG Choice: Catastrophe! Next\, the talented team decides to showcase God’s plan to deal with sin: The BIG Gift\, in the form of both a cradle and a cross. Jesus — born on Earth fully human and fully God\, fulfilling God’s promise of a Savior\, and then redeeming us from sin through His work on the cross and the promise of eternal life. Finally\, B.I.G.’s focus and creativity leads us to The BIG Finish: A Celebration and a Crown. We can all celebrate that Jesus is King\, and that He is coming back to take us home to live with Him in Heaven forever!
URL:https://lpbc.us/event/spring-kids-musical/
LOCATION:Lane Prairie Baptist Church\, 412 County Road 704\, Joshua\, TX\, 76058\, United States
CATEGORIES:Children's Events,Featured Events
ATTACH;FMTTYPE=image/jpeg:https://lpbc.us/wp-content/uploads/2019/04/bigidea.jpg
END:VEVENT
BEGIN:VEVENT
DTSTART;TZID=America/Chicago:20190324T180000
DTEND;TZID=America/Chicago:20190324T200000
DTSTAMP:20260423T163905
CREATED:20190215T173615Z
LAST-MODIFIED:20190220T160426Z
UID:4822-1553450400-1553457600@lpbc.us
SUMMARY:K Groups
DESCRIPTION:The K-Group is intended to be an extension of the ministry of Lane Prairie Baptist Church. Smaller groups will meet periodically in the comfort of a church member’s home to break bread\, worship\, hear from God’s Word\, and serve one another. Perhaps you have neighbors who are a bit skeptical of what a church actually does. Invite them over to see what occurs each Sunday morning and evening on a smaller scale.
URL:https://lpbc.us/event/k-groups-11/
LOCATION:TX
CATEGORIES:Adult Events,Featured Events,Senior Adult Events,Youth Events
ATTACH;FMTTYPE=image/jpeg:https://lpbc.us/wp-content/uploads/2017/07/K-Groups.jpg
END:VEVENT
BEGIN:VEVENT
DTSTART;TZID=America/Chicago:20190120T120000
DTEND;TZID=America/Chicago:20190120T133000
DTSTAMP:20260423T163905
CREATED:20190116T151538Z
LAST-MODIFIED:20190116T151538Z
UID:4949-1547985600-1547991000@lpbc.us
SUMMARY:New Member Luncheon
DESCRIPTION:New members come join us for lunch and info about the various ministries at LPBC. Let us help you find out where you can plug in and use your gifts to serve the Lord.
URL:https://lpbc.us/event/new-member-luncheon/
LOCATION:Lane Prairie Baptist Church\, 412 County Road 704\, Joshua\, TX\, 76058\, United States
CATEGORIES:Adult Events,Featured Events
ATTACH;FMTTYPE=image/png:https://lpbc.us/wp-content/uploads/2019/01/3AA33E5D-C809-43C6-9712-A358614447D0.png
END:VEVENT
BEGIN:VEVENT
DTSTART;TZID=America/Chicago:20181216T180000
DTEND;TZID=America/Chicago:20181216T190000
DTSTAMP:20260423T163905
CREATED:20181201T142950Z
LAST-MODIFIED:20181212T143826Z
UID:4920-1544983200-1544986800@lpbc.us
SUMMARY:Candlelight Service
DESCRIPTION:Join us Sunday night\, December 16 at 6:00 for our annual Candlelight Service.  It will be a time of to remember\, through worship and the sharing of the Word\, that God\, Himself\, came and dwelt among us.
URL:https://lpbc.us/event/candlelight-service/
LOCATION:TX
CATEGORIES:Adult Events,Children's Events,Featured Events,Senior Adult Events,Youth Events
ATTACH;FMTTYPE=image/jpeg:https://lpbc.us/wp-content/uploads/2018/12/IMG_0670.jpg
END:VEVENT
BEGIN:VEVENT
DTSTART;TZID=America/Chicago:20181216T104500
DTEND;TZID=America/Chicago:20181216T120000
DTSTAMP:20260423T163905
CREATED:20181114T211829Z
LAST-MODIFIED:20181114T211829Z
UID:4902-1544957100-1544961600@lpbc.us
SUMMARY:Christmas Musical
DESCRIPTION:The LPBC Worship Choir will be presenting The King is Here. 
URL:https://lpbc.us/event/christmas-musical/
LOCATION:TX
CATEGORIES:Adult Events,Children's Events,Featured Events,Senior Adult Events,Youth Events
ATTACH;FMTTYPE=image/jpeg:https://lpbc.us/wp-content/uploads/2018/11/adult-choir.jpg
END:VEVENT
BEGIN:VEVENT
DTSTART;TZID=America/Chicago:20181209T104500
DTEND;TZID=America/Chicago:20181209T120000
DTSTAMP:20260423T163905
CREATED:20181101T201146Z
LAST-MODIFIED:20181114T211530Z
UID:4899-1544352300-1544356800@lpbc.us
SUMMARY:Children's Musical
DESCRIPTION:Come see our Children’s Choir as they present Star Search. 
URL:https://lpbc.us/event/childrens-musical-2/
LOCATION:TX
CATEGORIES:Children's Events,Featured Events
ATTACH;FMTTYPE=image/jpeg:https://lpbc.us/wp-content/uploads/2018/11/kids-musical.jpg
END:VEVENT
BEGIN:VEVENT
DTSTART;TZID=America/Chicago:20181007T104500
DTEND;TZID=America/Chicago:20181007T120000
DTSTAMP:20260423T163905
CREATED:20180905T204852Z
LAST-MODIFIED:20180905T204852Z
UID:4833-1538909100-1538913600@lpbc.us
SUMMARY:Senior Adult Day
DESCRIPTION:The Blackwood Quartet is a gospel group that consists of brothers Roy\, Doyle and James Blackwood\, along with Roy’s son R.W. Bill Shaw and Bill Lyles later joined the group with James and R.W. Blackwood. This gospel country quartet started featuring on TV shows across the nation including Barbara Mandrell and the Mandrell Sisters\, Hee Haw and many more. \n  \nFree lunch for senior adults. \nYou can sign up by contacting the church office at (817) 645 – 8797.
URL:https://lpbc.us/event/senior-adult-day/
LOCATION:Lane Prairie Baptist Church\, 412 County Road 704\, Joshua\, TX\, 76058\, United States
CATEGORIES:Adult Events,Featured Events,Senior Adult Events
ATTACH;FMTTYPE=image/jpeg:https://lpbc.us/wp-content/uploads/2017/08/Blackwood-QT-Table.alt_.jpg
END:VEVENT
BEGIN:VEVENT
DTSTART;TZID=America/Chicago:20180930T180000
DTEND;TZID=America/Chicago:20180930T190000
DTSTAMP:20260423T163905
CREATED:20180905T174956Z
LAST-MODIFIED:20180905T174956Z
UID:4829-1538330400-1538334000@lpbc.us
SUMMARY:Fifth Sunday Sing
DESCRIPTION:
URL:https://lpbc.us/event/fifth-sunday-sing/
LOCATION:Lane Prairie Baptist Church\, 412 County Road 704\, Joshua\, TX\, 76058\, United States
CATEGORIES:Adult Events,Children's Events,Featured Events,Senior Adult Events,Youth Events
ATTACH;FMTTYPE=image/jpeg:https://lpbc.us/wp-content/uploads/2018/09/01282beb88c1a507969a51e11ec50b4d.jpg
END:VEVENT
BEGIN:VEVENT
DTSTART;TZID=America/Chicago:20180902T180000
DTEND;TZID=America/Chicago:20180902T190000
DTSTAMP:20260423T163905
CREATED:20180829T171848Z
LAST-MODIFIED:20180829T172143Z
UID:4809-1535911200-1535914800@lpbc.us
SUMMARY:Labor Day Fellowship
DESCRIPTION:Join us during our normal evening worship service this Sunday (9/2) for a time of fellowship. Please brings desserts and any game that you would like to play.
URL:https://lpbc.us/event/labor-day-fellowship/
LOCATION:Lane Prairie Baptist Church\, 412 County Road 704\, Joshua\, TX\, 76058\, United States
CATEGORIES:Adult Events,Children's Events,Featured Events,Senior Adult Events,Youth Events
ATTACH;FMTTYPE=image/jpeg:https://lpbc.us/wp-content/uploads/2018/08/Labor-Day-Fellowship.jpg
END:VEVENT
BEGIN:VEVENT
DTSTART;TZID=America/Chicago:20180624T180000
DTEND;TZID=America/Chicago:20180624T200000
DTSTAMP:20260423T163905
CREATED:20180606T144929Z
LAST-MODIFIED:20180606T144929Z
UID:4670-1529863200-1529870400@lpbc.us
SUMMARY:K Groups
DESCRIPTION:
URL:https://lpbc.us/event/k-groups-9/
LOCATION:Lane Prairie Baptist Church\, 412 County Road 704\, Joshua\, TX\, 76058\, United States
CATEGORIES:Adult Events,Featured Events,Youth Events
ATTACH;FMTTYPE=image/jpeg:https://lpbc.us/wp-content/uploads/2017/07/K-Groups.jpg
END:VEVENT
BEGIN:VEVENT
DTSTART;TZID=America/Chicago:20180615T183000
DTEND;TZID=America/Chicago:20180615T193000
DTSTAMP:20260423T163905
CREATED:20180606T150647Z
LAST-MODIFIED:20180606T170458Z
UID:4676-1529087400-1529091000@lpbc.us
SUMMARY:VBS Family Night
DESCRIPTION:
URL:https://lpbc.us/event/vbs-family-night/
LOCATION:Lane Prairie Baptist Church\, 412 County Road 704\, Joshua\, TX\, 76058\, United States
CATEGORIES:Children's Events,Featured Events
ATTACH;FMTTYPE=image/png:https://lpbc.us/wp-content/uploads/2018/06/FamilyNight.png
END:VEVENT
BEGIN:VEVENT
DTSTART;TZID=America/Chicago:20180611T090000
DTEND;TZID=America/Chicago:20180611T120000
DTSTAMP:20260423T163905
CREATED:20180228T190017Z
LAST-MODIFIED:20180525T134926Z
UID:4531-1528707600-1528718400@lpbc.us
SUMMARY:VBS 2018 Day 1
DESCRIPTION:http://lpbc.us/wp-content/uploads/2018/02/VBS-2018-KIDS-Recruitment.mp4\n  \nLifeWay’s 2018 VBS invites your kids to grab their megaphones\, lace up their cleats\, and tune up their instruments. As they fill up the offensive line\, sideline\, and drumline\, your players\, cheerleaders\, and band members will realize God has given them His ultimate playbook. He wants them to join His team\, train hard\, celebrate salvation\, and encourage one another. Get in the spirit today with Game On! VBS. \n<<REGISTER HERE>>
URL:https://lpbc.us/event/vbs-2018/
LOCATION:Lane Prairie Baptist Church\, 412 County Road 704\, Joshua\, TX\, 76058\, United States
CATEGORIES:Children's Events,Featured Events
ATTACH;FMTTYPE=image/jpeg:https://lpbc.us/wp-content/uploads/2018/02/VBS18_Logo_4c.jpg
END:VEVENT
BEGIN:VEVENT
DTSTART;TZID=America/Chicago:20180610T190000
DTEND;TZID=America/Chicago:20180610T200000
DTSTAMP:20260423T163905
CREATED:20180606T144640Z
LAST-MODIFIED:20180606T144640Z
UID:4666-1528657200-1528660800@lpbc.us
SUMMARY:SNAC
DESCRIPTION:
URL:https://lpbc.us/event/snac-4/
LOCATION:Buffalo Nickels Mini-Golf & Nickel Arcade\, 241 Elk Dr\, Burleson\, TX\, 76028\, United States
CATEGORIES:Featured Events,Youth Events
ATTACH;FMTTYPE=image/jpeg:https://lpbc.us/wp-content/uploads/2016/05/snac.jpg
END:VEVENT
BEGIN:VEVENT
DTSTART;TZID=America/Chicago:20180609T120000
DTEND;TZID=America/Chicago:20180609T140000
DTSTAMP:20260423T163905
CREATED:20180606T145335Z
LAST-MODIFIED:20180606T145352Z
UID:4672-1528545600-1528552800@lpbc.us
SUMMARY:Young At Heart Senior Adult Fellowship
DESCRIPTION:
URL:https://lpbc.us/event/young-at-heart-senior-adult-fellowship/
LOCATION:Lane Prairie Baptist Church\, 412 County Road 704\, Joshua\, TX\, 76058\, United States
CATEGORIES:Featured Events,Senior Adult Events
ATTACH;FMTTYPE=image/png:https://lpbc.us/wp-content/uploads/2018/06/youngatheart.png
END:VEVENT
BEGIN:VEVENT
DTSTART;TZID=America/Chicago:20180527T180000
DTEND;TZID=America/Chicago:20180527T200000
DTSTAMP:20260423T163905
CREATED:20180502T153626Z
LAST-MODIFIED:20180502T153626Z
UID:4611-1527444000-1527451200@lpbc.us
SUMMARY:K Groups
DESCRIPTION:
URL:https://lpbc.us/event/k-groups-8/
LOCATION:TX
CATEGORIES:Adult Events,Featured Events,Youth Events
ATTACH;FMTTYPE=image/jpeg:https://lpbc.us/wp-content/uploads/2017/07/K-Groups.jpg
END:VEVENT
BEGIN:VEVENT
DTSTART;TZID=America/Chicago:20180506T191500
DTEND;TZID=America/Chicago:20180506T201500
DTSTAMP:20260423T163905
CREATED:20180502T155821Z
LAST-MODIFIED:20180502T182228Z
UID:4616-1525634100-1525637700@lpbc.us
SUMMARY:Youth Camp Meeting
DESCRIPTION:
URL:https://lpbc.us/event/youth-camp-meeting-2/
LOCATION:Lane Prairie Baptist Church\, 412 County Road 704\, Joshua\, TX\, 76058\, United States
CATEGORIES:Featured Events,Youth Events
ATTACH;FMTTYPE=image/jpeg:https://lpbc.us/wp-content/uploads/2018/05/youth-camp-meeting.jpg
END:VEVENT
END:VCALENDAR